BEGIN:VCALENDAR
VERSION:2.0
PRODID:-//Millvale Sportmens Club - ECPv6.15.16//NONSGML v1.0//EN
CALSCALE:GREGORIAN
METHOD:PUBLISH
X-WR-CALNAME:Millvale Sportmens Club
X-ORIGINAL-URL:https://millvalesportsmens.com
X-WR-CALDESC:Events for Millvale Sportmens Club
REFRESH-INTERVAL;VALUE=DURATION:PT1H
X-Robots-Tag:noindex
X-PUBLISHED-TTL:PT1H
BEGIN:VTIMEZONE
TZID:America/New_York
BEGIN:DAYLIGHT
TZOFFSETFROM:-0500
TZOFFSETTO:-0400
TZNAME:EDT
DTSTART:20260308T070000
END:DAYLIGHT
BEGIN:STANDARD
TZOFFSETFROM:-0400
TZOFFSETTO:-0500
TZNAME:EST
DTSTART:20261101T060000
END:STANDARD
BEGIN:DAYLIGHT
TZOFFSETFROM:-0500
TZOFFSETTO:-0400
TZNAME:EDT
DTSTART:20270314T070000
END:DAYLIGHT
BEGIN:STANDARD
TZOFFSETFROM:-0400
TZOFFSETTO:-0500
TZNAME:EST
DTSTART:20271107T060000
END:STANDARD
BEGIN:DAYLIGHT
TZOFFSETFROM:-0500
TZOFFSETTO:-0400
TZNAME:EDT
DTSTART:20280312T070000
END:DAYLIGHT
BEGIN:STANDARD
TZOFFSETFROM:-0400
TZOFFSETTO:-0500
TZNAME:EST
DTSTART:20281105T060000
END:STANDARD
BEGIN:DAYLIGHT
TZOFFSETFROM:-0500
TZOFFSETTO:-0400
TZNAME:EDT
DTSTART:20290311T070000
END:DAYLIGHT
BEGIN:STANDARD
TZOFFSETFROM:-0400
TZOFFSETTO:-0500
TZNAME:EST
DTSTART:20291104T060000
END:STANDARD
END:VTIMEZONE
BEGIN:VEVENT
DTSTART;TZID=America/New_York:20270908T183000
DTEND;TZID=America/New_York:20270908T210000
DTSTAMP:20260426T002157
CREATED:20250224T213635Z
LAST-MODIFIED:20250224T213635Z
UID:10003988-1820428200-1820437200@millvalesportsmens.com
SUMMARY:Trap Fields Open
DESCRIPTION:
URL:https://millvalesportsmens.com/event/trap-fields-open/2027-09-08/
LOCATION:Millvale Sportmen’s Club
CATEGORIES:Trap Event
END:VEVENT
BEGIN:VEVENT
DTSTART;TZID=America/New_York:20270915T183000
DTEND;TZID=America/New_York:20270915T210000
DTSTAMP:20260426T002157
CREATED:20250224T213635Z
LAST-MODIFIED:20250224T213635Z
UID:10003989-1821033000-1821042000@millvalesportsmens.com
SUMMARY:Trap Fields Open
DESCRIPTION:
URL:https://millvalesportsmens.com/event/trap-fields-open/2027-09-15/
LOCATION:Millvale Sportmen’s Club
CATEGORIES:Trap Event
END:VEVENT
BEGIN:VEVENT
DTSTART;TZID=America/New_York:20270922T183000
DTEND;TZID=America/New_York:20270922T210000
DTSTAMP:20260426T002157
CREATED:20250224T213635Z
LAST-MODIFIED:20250224T213635Z
UID:10003990-1821637800-1821646800@millvalesportsmens.com
SUMMARY:Trap Fields Open
DESCRIPTION:
URL:https://millvalesportsmens.com/event/trap-fields-open/2027-09-22/
LOCATION:Millvale Sportmen’s Club
CATEGORIES:Trap Event
END:VEVENT
BEGIN:VEVENT
DTSTART;TZID=America/New_York:20270929T183000
DTEND;TZID=America/New_York:20270929T210000
DTSTAMP:20260426T002157
CREATED:20250224T213635Z
LAST-MODIFIED:20250224T213635Z
UID:10003991-1822242600-1822251600@millvalesportsmens.com
SUMMARY:Trap Fields Open
DESCRIPTION:
URL:https://millvalesportsmens.com/event/trap-fields-open/2027-09-29/
LOCATION:Millvale Sportmen’s Club
CATEGORIES:Trap Event
END:VEVENT
BEGIN:VEVENT
DTSTART;TZID=America/New_York:20271006T183000
DTEND;TZID=America/New_York:20271006T210000
DTSTAMP:20260426T002157
CREATED:20250224T213635Z
LAST-MODIFIED:20250224T213635Z
UID:10003992-1822847400-1822856400@millvalesportsmens.com
SUMMARY:Trap Fields Open
DESCRIPTION:
URL:https://millvalesportsmens.com/event/trap-fields-open/2027-10-06/
LOCATION:Millvale Sportmen’s Club
CATEGORIES:Trap Event
END:VEVENT
BEGIN:VEVENT
DTSTART;TZID=America/New_York:20271013T183000
DTEND;TZID=America/New_York:20271013T210000
DTSTAMP:20260426T002157
CREATED:20250224T213635Z
LAST-MODIFIED:20250224T213635Z
UID:10003993-1823452200-1823461200@millvalesportsmens.com
SUMMARY:Trap Fields Open
DESCRIPTION:
URL:https://millvalesportsmens.com/event/trap-fields-open/2027-10-13/
LOCATION:Millvale Sportmen’s Club
CATEGORIES:Trap Event
END:VEVENT
BEGIN:VEVENT
DTSTART;TZID=America/New_York:20271020T183000
DTEND;TZID=America/New_York:20271020T210000
DTSTAMP:20260426T002157
CREATED:20250224T213635Z
LAST-MODIFIED:20250224T213635Z
UID:10003994-1824057000-1824066000@millvalesportsmens.com
SUMMARY:Trap Fields Open
DESCRIPTION:
URL:https://millvalesportsmens.com/event/trap-fields-open/2027-10-20/
LOCATION:Millvale Sportmen’s Club
CATEGORIES:Trap Event
END:VEVENT
BEGIN:VEVENT
DTSTART;TZID=America/New_York:20271027T183000
DTEND;TZID=America/New_York:20271027T210000
DTSTAMP:20260426T002157
CREATED:20250224T213635Z
LAST-MODIFIED:20250224T213635Z
UID:10003995-1824661800-1824670800@millvalesportsmens.com
SUMMARY:Trap Fields Open
DESCRIPTION:
URL:https://millvalesportsmens.com/event/trap-fields-open/2027-10-27/
LOCATION:Millvale Sportmen’s Club
CATEGORIES:Trap Event
END:VEVENT
BEGIN:VEVENT
DTSTART;TZID=America/New_York:20271103T183000
DTEND;TZID=America/New_York:20271103T210000
DTSTAMP:20260426T002157
CREATED:20250224T213635Z
LAST-MODIFIED:20250224T213635Z
UID:10003996-1825266600-1825275600@millvalesportsmens.com
SUMMARY:Trap Fields Open
DESCRIPTION:
URL:https://millvalesportsmens.com/event/trap-fields-open/2027-11-03/
LOCATION:Millvale Sportmen’s Club
CATEGORIES:Trap Event
END:VEVENT
BEGIN:VEVENT
DTSTART;TZID=America/New_York:20271110T183000
DTEND;TZID=America/New_York:20271110T210000
DTSTAMP:20260426T002157
CREATED:20250224T213635Z
LAST-MODIFIED:20250224T213635Z
UID:10003997-1825871400-1825880400@millvalesportsmens.com
SUMMARY:Trap Fields Open
DESCRIPTION:
URL:https://millvalesportsmens.com/event/trap-fields-open/2027-11-10/
LOCATION:Millvale Sportmen’s Club
CATEGORIES:Trap Event
END:VEVENT
BEGIN:VEVENT
DTSTART;TZID=America/New_York:20271117T183000
DTEND;TZID=America/New_York:20271117T210000
DTSTAMP:20260426T002157
CREATED:20250224T213635Z
LAST-MODIFIED:20250224T213635Z
UID:10003998-1826476200-1826485200@millvalesportsmens.com
SUMMARY:Trap Fields Open
DESCRIPTION:
URL:https://millvalesportsmens.com/event/trap-fields-open/2027-11-17/
LOCATION:Millvale Sportmen’s Club
CATEGORIES:Trap Event
END:VEVENT
BEGIN:VEVENT
DTSTART;TZID=America/New_York:20271124T183000
DTEND;TZID=America/New_York:20271124T210000
DTSTAMP:20260426T002157
CREATED:20250224T213635Z
LAST-MODIFIED:20250224T213635Z
UID:10003999-1827081000-1827090000@millvalesportsmens.com
SUMMARY:Trap Fields Open
DESCRIPTION:
URL:https://millvalesportsmens.com/event/trap-fields-open/2027-11-24/
LOCATION:Millvale Sportmen’s Club
CATEGORIES:Trap Event
END:VEVENT
BEGIN:VEVENT
DTSTART;TZID=America/New_York:20271201T183000
DTEND;TZID=America/New_York:20271201T210000
DTSTAMP:20260426T002157
CREATED:20250224T213635Z
LAST-MODIFIED:20250224T213635Z
UID:10004000-1827685800-1827694800@millvalesportsmens.com
SUMMARY:Trap Fields Open
DESCRIPTION:
URL:https://millvalesportsmens.com/event/trap-fields-open/2027-12-01/
LOCATION:Millvale Sportmen’s Club
CATEGORIES:Trap Event
END:VEVENT
BEGIN:VEVENT
DTSTART;TZID=America/New_York:20271208T183000
DTEND;TZID=America/New_York:20271208T210000
DTSTAMP:20260426T002157
CREATED:20250224T213635Z
LAST-MODIFIED:20250224T213635Z
UID:10004001-1828290600-1828299600@millvalesportsmens.com
SUMMARY:Trap Fields Open
DESCRIPTION:
URL:https://millvalesportsmens.com/event/trap-fields-open/2027-12-08/
LOCATION:Millvale Sportmen’s Club
CATEGORIES:Trap Event
END:VEVENT
BEGIN:VEVENT
DTSTART;TZID=America/New_York:20271215T183000
DTEND;TZID=America/New_York:20271215T210000
DTSTAMP:20260426T002157
CREATED:20250224T213635Z
LAST-MODIFIED:20250224T213635Z
UID:10004002-1828895400-1828904400@millvalesportsmens.com
SUMMARY:Trap Fields Open
DESCRIPTION:
URL:https://millvalesportsmens.com/event/trap-fields-open/2027-12-15/
LOCATION:Millvale Sportmen’s Club
CATEGORIES:Trap Event
END:VEVENT
BEGIN:VEVENT
DTSTART;TZID=America/New_York:20271222T183000
DTEND;TZID=America/New_York:20271222T210000
DTSTAMP:20260426T002157
CREATED:20250224T213635Z
LAST-MODIFIED:20250224T213635Z
UID:10004003-1829500200-1829509200@millvalesportsmens.com
SUMMARY:Trap Fields Open
DESCRIPTION:
URL:https://millvalesportsmens.com/event/trap-fields-open/2027-12-22/
LOCATION:Millvale Sportmen’s Club
CATEGORIES:Trap Event
END:VEVENT
BEGIN:VEVENT
DTSTART;TZID=America/New_York:20271229T183000
DTEND;TZID=America/New_York:20271229T210000
DTSTAMP:20260426T002157
CREATED:20250224T213635Z
LAST-MODIFIED:20250224T213635Z
UID:10004004-1830105000-1830114000@millvalesportsmens.com
SUMMARY:Trap Fields Open
DESCRIPTION:
URL:https://millvalesportsmens.com/event/trap-fields-open/2027-12-29/
LOCATION:Millvale Sportmen’s Club
CATEGORIES:Trap Event
END:VEVENT
BEGIN:VEVENT
DTSTART;TZID=America/New_York:20280105T183000
DTEND;TZID=America/New_York:20280105T210000
DTSTAMP:20260426T002157
CREATED:20250224T213635Z
LAST-MODIFIED:20250224T213635Z
UID:10004005-1830709800-1830718800@millvalesportsmens.com
SUMMARY:Trap Fields Open
DESCRIPTION:
URL:https://millvalesportsmens.com/event/trap-fields-open/2028-01-05/
LOCATION:Millvale Sportmen’s Club
CATEGORIES:Trap Event
END:VEVENT
BEGIN:VEVENT
DTSTART;TZID=America/New_York:20280112T183000
DTEND;TZID=America/New_York:20280112T210000
DTSTAMP:20260426T002157
CREATED:20250224T213635Z
LAST-MODIFIED:20250224T213635Z
UID:10004006-1831314600-1831323600@millvalesportsmens.com
SUMMARY:Trap Fields Open
DESCRIPTION:
URL:https://millvalesportsmens.com/event/trap-fields-open/2028-01-12/
LOCATION:Millvale Sportmen’s Club
CATEGORIES:Trap Event
END:VEVENT
BEGIN:VEVENT
DTSTART;TZID=America/New_York:20280119T183000
DTEND;TZID=America/New_York:20280119T210000
DTSTAMP:20260426T002157
CREATED:20250224T213635Z
LAST-MODIFIED:20250224T213635Z
UID:10004007-1831919400-1831928400@millvalesportsmens.com
SUMMARY:Trap Fields Open
DESCRIPTION:
URL:https://millvalesportsmens.com/event/trap-fields-open/2028-01-19/
LOCATION:Millvale Sportmen’s Club
CATEGORIES:Trap Event
END:VEVENT
BEGIN:VEVENT
DTSTART;TZID=America/New_York:20280126T183000
DTEND;TZID=America/New_York:20280126T210000
DTSTAMP:20260426T002157
CREATED:20250224T213635Z
LAST-MODIFIED:20250224T213635Z
UID:10004008-1832524200-1832533200@millvalesportsmens.com
SUMMARY:Trap Fields Open
DESCRIPTION:
URL:https://millvalesportsmens.com/event/trap-fields-open/2028-01-26/
LOCATION:Millvale Sportmen’s Club
CATEGORIES:Trap Event
END:VEVENT
BEGIN:VEVENT
DTSTART;TZID=America/New_York:20280202T183000
DTEND;TZID=America/New_York:20280202T210000
DTSTAMP:20260426T002157
CREATED:20250224T213635Z
LAST-MODIFIED:20250224T213635Z
UID:10004009-1833129000-1833138000@millvalesportsmens.com
SUMMARY:Trap Fields Open
DESCRIPTION:
URL:https://millvalesportsmens.com/event/trap-fields-open/2028-02-02/
LOCATION:Millvale Sportmen’s Club
CATEGORIES:Trap Event
END:VEVENT
BEGIN:VEVENT
DTSTART;TZID=America/New_York:20280209T183000
DTEND;TZID=America/New_York:20280209T210000
DTSTAMP:20260426T002157
CREATED:20250224T213635Z
LAST-MODIFIED:20250224T213635Z
UID:10004010-1833733800-1833742800@millvalesportsmens.com
SUMMARY:Trap Fields Open
DESCRIPTION:
URL:https://millvalesportsmens.com/event/trap-fields-open/2028-02-09/
LOCATION:Millvale Sportmen’s Club
CATEGORIES:Trap Event
END:VEVENT
BEGIN:VEVENT
DTSTART;TZID=America/New_York:20280216T183000
DTEND;TZID=America/New_York:20280216T210000
DTSTAMP:20260426T002157
CREATED:20250224T213635Z
LAST-MODIFIED:20250224T213635Z
UID:10004011-1834338600-1834347600@millvalesportsmens.com
SUMMARY:Trap Fields Open
DESCRIPTION:
URL:https://millvalesportsmens.com/event/trap-fields-open/2028-02-16/
LOCATION:Millvale Sportmen’s Club
CATEGORIES:Trap Event
END:VEVENT
BEGIN:VEVENT
DTSTART;TZID=America/New_York:20280223T183000
DTEND;TZID=America/New_York:20280223T210000
DTSTAMP:20260426T002157
CREATED:20250224T213635Z
LAST-MODIFIED:20250224T213635Z
UID:10004012-1834943400-1834952400@millvalesportsmens.com
SUMMARY:Trap Fields Open
DESCRIPTION:
URL:https://millvalesportsmens.com/event/trap-fields-open/2028-02-23/
LOCATION:Millvale Sportmen’s Club
CATEGORIES:Trap Event
END:VEVENT
BEGIN:VEVENT
DTSTART;TZID=America/New_York:20280301T183000
DTEND;TZID=America/New_York:20280301T210000
DTSTAMP:20260426T002157
CREATED:20250224T213635Z
LAST-MODIFIED:20250224T213635Z
UID:10004013-1835548200-1835557200@millvalesportsmens.com
SUMMARY:Trap Fields Open
DESCRIPTION:
URL:https://millvalesportsmens.com/event/trap-fields-open/2028-03-01/
LOCATION:Millvale Sportmen’s Club
CATEGORIES:Trap Event
END:VEVENT
BEGIN:VEVENT
DTSTART;TZID=America/New_York:20280308T183000
DTEND;TZID=America/New_York:20280308T210000
DTSTAMP:20260426T002157
CREATED:20250224T213635Z
LAST-MODIFIED:20250224T213635Z
UID:10004014-1836153000-1836162000@millvalesportsmens.com
SUMMARY:Trap Fields Open
DESCRIPTION:
URL:https://millvalesportsmens.com/event/trap-fields-open/2028-03-08/
LOCATION:Millvale Sportmen’s Club
CATEGORIES:Trap Event
END:VEVENT
BEGIN:VEVENT
DTSTART;TZID=America/New_York:20280315T183000
DTEND;TZID=America/New_York:20280315T210000
DTSTAMP:20260426T002157
CREATED:20250224T213635Z
LAST-MODIFIED:20250224T213635Z
UID:10004015-1836757800-1836766800@millvalesportsmens.com
SUMMARY:Trap Fields Open
DESCRIPTION:
URL:https://millvalesportsmens.com/event/trap-fields-open/2028-03-15/
LOCATION:Millvale Sportmen’s Club
CATEGORIES:Trap Event
END:VEVENT
BEGIN:VEVENT
DTSTART;TZID=America/New_York:20280322T183000
DTEND;TZID=America/New_York:20280322T210000
DTSTAMP:20260426T002157
CREATED:20250224T213635Z
LAST-MODIFIED:20250224T213635Z
UID:10004016-1837362600-1837371600@millvalesportsmens.com
SUMMARY:Trap Fields Open
DESCRIPTION:
URL:https://millvalesportsmens.com/event/trap-fields-open/2028-03-22/
LOCATION:Millvale Sportmen’s Club
CATEGORIES:Trap Event
END:VEVENT
BEGIN:VEVENT
DTSTART;TZID=America/New_York:20280329T183000
DTEND;TZID=America/New_York:20280329T210000
DTSTAMP:20260426T002157
CREATED:20250224T213635Z
LAST-MODIFIED:20250224T213635Z
UID:10004017-1837967400-1837976400@millvalesportsmens.com
SUMMARY:Trap Fields Open
DESCRIPTION:
URL:https://millvalesportsmens.com/event/trap-fields-open/2028-03-29/
LOCATION:Millvale Sportmen’s Club
CATEGORIES:Trap Event
END:VEVENT
END:VCALENDAR