BEGIN:VCALENDAR
VERSION:2.0
PRODID:-//Millvale Sportmens Club - ECPv6.15.16//NONSGML v1.0//EN
CALSCALE:GREGORIAN
METHOD:PUBLISH
X-ORIGINAL-URL:https://millvalesportsmens.com
X-WR-CALDESC:Events for Millvale Sportmens Club
REFRESH-INTERVAL;VALUE=DURATION:PT1H
X-Robots-Tag:noindex
X-PUBLISHED-TTL:PT1H
BEGIN:VTIMEZONE
TZID:America/New_York
BEGIN:DAYLIGHT
TZOFFSETFROM:-0500
TZOFFSETTO:-0400
TZNAME:EDT
DTSTART:20270314T070000
END:DAYLIGHT
BEGIN:STANDARD
TZOFFSETFROM:-0400
TZOFFSETTO:-0500
TZNAME:EST
DTSTART:20271107T060000
END:STANDARD
BEGIN:DAYLIGHT
TZOFFSETFROM:-0500
TZOFFSETTO:-0400
TZNAME:EDT
DTSTART:20280312T070000
END:DAYLIGHT
BEGIN:STANDARD
TZOFFSETFROM:-0400
TZOFFSETTO:-0500
TZNAME:EST
DTSTART:20281105T060000
END:STANDARD
BEGIN:DAYLIGHT
TZOFFSETFROM:-0500
TZOFFSETTO:-0400
TZNAME:EDT
DTSTART:20290311T070000
END:DAYLIGHT
BEGIN:STANDARD
TZOFFSETFROM:-0400
TZOFFSETTO:-0500
TZNAME:EST
DTSTART:20291104T060000
END:STANDARD
BEGIN:DAYLIGHT
TZOFFSETFROM:-0500
TZOFFSETTO:-0400
TZNAME:EDT
DTSTART:20300310T070000
END:DAYLIGHT
BEGIN:STANDARD
TZOFFSETFROM:-0400
TZOFFSETTO:-0500
TZNAME:EST
DTSTART:20301103T060000
END:STANDARD
END:VTIMEZONE
BEGIN:VEVENT
DTSTART;TZID=America/New_York:20280809T183000
DTEND;TZID=America/New_York:20280809T210000
DTSTAMP:20260426T000952
CREATED:20250224T213635Z
LAST-MODIFIED:20250224T213635Z
UID:10004036-1849458600-1849467600@millvalesportsmens.com
SUMMARY:Trap Fields Open
DESCRIPTION:
URL:https://millvalesportsmens.com/event/trap-fields-open/2028-08-09/
LOCATION:Millvale Sportmen’s Club
CATEGORIES:Trap Event
END:VEVENT
BEGIN:VEVENT
DTSTART;TZID=America/New_York:20280816T183000
DTEND;TZID=America/New_York:20280816T210000
DTSTAMP:20260426T000952
CREATED:20250224T213635Z
LAST-MODIFIED:20250224T213635Z
UID:10004037-1850063400-1850072400@millvalesportsmens.com
SUMMARY:Trap Fields Open
DESCRIPTION:
URL:https://millvalesportsmens.com/event/trap-fields-open/2028-08-16/
LOCATION:Millvale Sportmen’s Club
CATEGORIES:Trap Event
END:VEVENT
BEGIN:VEVENT
DTSTART;TZID=America/New_York:20280823T183000
DTEND;TZID=America/New_York:20280823T210000
DTSTAMP:20260426T000952
CREATED:20250224T213635Z
LAST-MODIFIED:20250224T213635Z
UID:10004038-1850668200-1850677200@millvalesportsmens.com
SUMMARY:Trap Fields Open
DESCRIPTION:
URL:https://millvalesportsmens.com/event/trap-fields-open/2028-08-23/
LOCATION:Millvale Sportmen’s Club
CATEGORIES:Trap Event
END:VEVENT
BEGIN:VEVENT
DTSTART;TZID=America/New_York:20280830T183000
DTEND;TZID=America/New_York:20280830T210000
DTSTAMP:20260426T000952
CREATED:20250224T213635Z
LAST-MODIFIED:20250224T213635Z
UID:10004039-1851273000-1851282000@millvalesportsmens.com
SUMMARY:Trap Fields Open
DESCRIPTION:
URL:https://millvalesportsmens.com/event/trap-fields-open/2028-08-30/
LOCATION:Millvale Sportmen’s Club
CATEGORIES:Trap Event
END:VEVENT
BEGIN:VEVENT
DTSTART;TZID=America/New_York:20280906T183000
DTEND;TZID=America/New_York:20280906T210000
DTSTAMP:20260426T000952
CREATED:20250224T213635Z
LAST-MODIFIED:20250224T213635Z
UID:10004040-1851877800-1851886800@millvalesportsmens.com
SUMMARY:Trap Fields Open
DESCRIPTION:
URL:https://millvalesportsmens.com/event/trap-fields-open/2028-09-06/
LOCATION:Millvale Sportmen’s Club
CATEGORIES:Trap Event
END:VEVENT
BEGIN:VEVENT
DTSTART;TZID=America/New_York:20280913T183000
DTEND;TZID=America/New_York:20280913T210000
DTSTAMP:20260426T000952
CREATED:20250224T213635Z
LAST-MODIFIED:20250224T213635Z
UID:10004041-1852482600-1852491600@millvalesportsmens.com
SUMMARY:Trap Fields Open
DESCRIPTION:
URL:https://millvalesportsmens.com/event/trap-fields-open/2028-09-13/
LOCATION:Millvale Sportmen’s Club
CATEGORIES:Trap Event
END:VEVENT
BEGIN:VEVENT
DTSTART;TZID=America/New_York:20280920T183000
DTEND;TZID=America/New_York:20280920T210000
DTSTAMP:20260426T000952
CREATED:20250224T213635Z
LAST-MODIFIED:20250224T213635Z
UID:10004042-1853087400-1853096400@millvalesportsmens.com
SUMMARY:Trap Fields Open
DESCRIPTION:
URL:https://millvalesportsmens.com/event/trap-fields-open/2028-09-20/
LOCATION:Millvale Sportmen’s Club
CATEGORIES:Trap Event
END:VEVENT
BEGIN:VEVENT
DTSTART;TZID=America/New_York:20280927T183000
DTEND;TZID=America/New_York:20280927T210000
DTSTAMP:20260426T000952
CREATED:20250224T213635Z
LAST-MODIFIED:20250224T213635Z
UID:10004043-1853692200-1853701200@millvalesportsmens.com
SUMMARY:Trap Fields Open
DESCRIPTION:
URL:https://millvalesportsmens.com/event/trap-fields-open/2028-09-27/
LOCATION:Millvale Sportmen’s Club
CATEGORIES:Trap Event
END:VEVENT
BEGIN:VEVENT
DTSTART;TZID=America/New_York:20281004T183000
DTEND;TZID=America/New_York:20281004T210000
DTSTAMP:20260426T000952
CREATED:20250224T213635Z
LAST-MODIFIED:20250224T213635Z
UID:10004044-1854297000-1854306000@millvalesportsmens.com
SUMMARY:Trap Fields Open
DESCRIPTION:
URL:https://millvalesportsmens.com/event/trap-fields-open/2028-10-04/
LOCATION:Millvale Sportmen’s Club
CATEGORIES:Trap Event
END:VEVENT
BEGIN:VEVENT
DTSTART;TZID=America/New_York:20281011T183000
DTEND;TZID=America/New_York:20281011T210000
DTSTAMP:20260426T000952
CREATED:20250224T213635Z
LAST-MODIFIED:20250224T213635Z
UID:10004045-1854901800-1854910800@millvalesportsmens.com
SUMMARY:Trap Fields Open
DESCRIPTION:
URL:https://millvalesportsmens.com/event/trap-fields-open/2028-10-11/
LOCATION:Millvale Sportmen’s Club
CATEGORIES:Trap Event
END:VEVENT
BEGIN:VEVENT
DTSTART;TZID=America/New_York:20281018T183000
DTEND;TZID=America/New_York:20281018T210000
DTSTAMP:20260426T000952
CREATED:20250224T213635Z
LAST-MODIFIED:20250224T213635Z
UID:10004046-1855506600-1855515600@millvalesportsmens.com
SUMMARY:Trap Fields Open
DESCRIPTION:
URL:https://millvalesportsmens.com/event/trap-fields-open/2028-10-18/
LOCATION:Millvale Sportmen’s Club
CATEGORIES:Trap Event
END:VEVENT
BEGIN:VEVENT
DTSTART;TZID=America/New_York:20281025T183000
DTEND;TZID=America/New_York:20281025T210000
DTSTAMP:20260426T000952
CREATED:20250224T213635Z
LAST-MODIFIED:20250224T213635Z
UID:10004047-1856111400-1856120400@millvalesportsmens.com
SUMMARY:Trap Fields Open
DESCRIPTION:
URL:https://millvalesportsmens.com/event/trap-fields-open/2028-10-25/
LOCATION:Millvale Sportmen’s Club
CATEGORIES:Trap Event
END:VEVENT
BEGIN:VEVENT
DTSTART;TZID=America/New_York:20281101T183000
DTEND;TZID=America/New_York:20281101T210000
DTSTAMP:20260426T000952
CREATED:20250224T213635Z
LAST-MODIFIED:20250224T213635Z
UID:10004048-1856716200-1856725200@millvalesportsmens.com
SUMMARY:Trap Fields Open
DESCRIPTION:
URL:https://millvalesportsmens.com/event/trap-fields-open/2028-11-01/
LOCATION:Millvale Sportmen’s Club
CATEGORIES:Trap Event
END:VEVENT
BEGIN:VEVENT
DTSTART;TZID=America/New_York:20281108T183000
DTEND;TZID=America/New_York:20281108T210000
DTSTAMP:20260426T000952
CREATED:20250224T213635Z
LAST-MODIFIED:20250224T213635Z
UID:10004049-1857321000-1857330000@millvalesportsmens.com
SUMMARY:Trap Fields Open
DESCRIPTION:
URL:https://millvalesportsmens.com/event/trap-fields-open/2028-11-08/
LOCATION:Millvale Sportmen’s Club
CATEGORIES:Trap Event
END:VEVENT
BEGIN:VEVENT
DTSTART;TZID=America/New_York:20281115T183000
DTEND;TZID=America/New_York:20281115T210000
DTSTAMP:20260426T000952
CREATED:20250224T213635Z
LAST-MODIFIED:20250224T213635Z
UID:10004050-1857925800-1857934800@millvalesportsmens.com
SUMMARY:Trap Fields Open
DESCRIPTION:
URL:https://millvalesportsmens.com/event/trap-fields-open/2028-11-15/
LOCATION:Millvale Sportmen’s Club
CATEGORIES:Trap Event
END:VEVENT
BEGIN:VEVENT
DTSTART;TZID=America/New_York:20281122T183000
DTEND;TZID=America/New_York:20281122T210000
DTSTAMP:20260426T000952
CREATED:20250224T213635Z
LAST-MODIFIED:20250224T213635Z
UID:10004051-1858530600-1858539600@millvalesportsmens.com
SUMMARY:Trap Fields Open
DESCRIPTION:
URL:https://millvalesportsmens.com/event/trap-fields-open/2028-11-22/
LOCATION:Millvale Sportmen’s Club
CATEGORIES:Trap Event
END:VEVENT
BEGIN:VEVENT
DTSTART;TZID=America/New_York:20281129T183000
DTEND;TZID=America/New_York:20281129T210000
DTSTAMP:20260426T000952
CREATED:20250224T213635Z
LAST-MODIFIED:20250224T213635Z
UID:10004052-1859135400-1859144400@millvalesportsmens.com
SUMMARY:Trap Fields Open
DESCRIPTION:
URL:https://millvalesportsmens.com/event/trap-fields-open/2028-11-29/
LOCATION:Millvale Sportmen’s Club
CATEGORIES:Trap Event
END:VEVENT
BEGIN:VEVENT
DTSTART;TZID=America/New_York:20281206T183000
DTEND;TZID=America/New_York:20281206T210000
DTSTAMP:20260426T000952
CREATED:20250224T213635Z
LAST-MODIFIED:20250224T213635Z
UID:10004053-1859740200-1859749200@millvalesportsmens.com
SUMMARY:Trap Fields Open
DESCRIPTION:
URL:https://millvalesportsmens.com/event/trap-fields-open/2028-12-06/
LOCATION:Millvale Sportmen’s Club
CATEGORIES:Trap Event
END:VEVENT
BEGIN:VEVENT
DTSTART;TZID=America/New_York:20281213T183000
DTEND;TZID=America/New_York:20281213T210000
DTSTAMP:20260426T000952
CREATED:20250224T213635Z
LAST-MODIFIED:20250224T213635Z
UID:10004054-1860345000-1860354000@millvalesportsmens.com
SUMMARY:Trap Fields Open
DESCRIPTION:
URL:https://millvalesportsmens.com/event/trap-fields-open/2028-12-13/
LOCATION:Millvale Sportmen’s Club
CATEGORIES:Trap Event
END:VEVENT
BEGIN:VEVENT
DTSTART;TZID=America/New_York:20281220T183000
DTEND;TZID=America/New_York:20281220T210000
DTSTAMP:20260426T000952
CREATED:20250224T213635Z
LAST-MODIFIED:20250224T213635Z
UID:10004055-1860949800-1860958800@millvalesportsmens.com
SUMMARY:Trap Fields Open
DESCRIPTION:
URL:https://millvalesportsmens.com/event/trap-fields-open/2028-12-20/
LOCATION:Millvale Sportmen’s Club
CATEGORIES:Trap Event
END:VEVENT
BEGIN:VEVENT
DTSTART;TZID=America/New_York:20281227T183000
DTEND;TZID=America/New_York:20281227T210000
DTSTAMP:20260426T000952
CREATED:20250224T213635Z
LAST-MODIFIED:20250224T213635Z
UID:10004056-1861554600-1861563600@millvalesportsmens.com
SUMMARY:Trap Fields Open
DESCRIPTION:
URL:https://millvalesportsmens.com/event/trap-fields-open/2028-12-27/
LOCATION:Millvale Sportmen’s Club
CATEGORIES:Trap Event
END:VEVENT
BEGIN:VEVENT
DTSTART;TZID=America/New_York:20290103T183000
DTEND;TZID=America/New_York:20290103T210000
DTSTAMP:20260426T000952
CREATED:20250224T213635Z
LAST-MODIFIED:20250224T213635Z
UID:10004057-1862159400-1862168400@millvalesportsmens.com
SUMMARY:Trap Fields Open
DESCRIPTION:
URL:https://millvalesportsmens.com/event/trap-fields-open/2029-01-03/
LOCATION:Millvale Sportmen’s Club
CATEGORIES:Trap Event
END:VEVENT
BEGIN:VEVENT
DTSTART;TZID=America/New_York:20290110T183000
DTEND;TZID=America/New_York:20290110T210000
DTSTAMP:20260426T000952
CREATED:20250224T213635Z
LAST-MODIFIED:20250224T213635Z
UID:10004058-1862764200-1862773200@millvalesportsmens.com
SUMMARY:Trap Fields Open
DESCRIPTION:
URL:https://millvalesportsmens.com/event/trap-fields-open/2029-01-10/
LOCATION:Millvale Sportmen’s Club
CATEGORIES:Trap Event
END:VEVENT
BEGIN:VEVENT
DTSTART;TZID=America/New_York:20290117T183000
DTEND;TZID=America/New_York:20290117T210000
DTSTAMP:20260426T000952
CREATED:20250224T213635Z
LAST-MODIFIED:20250224T213635Z
UID:10004059-1863369000-1863378000@millvalesportsmens.com
SUMMARY:Trap Fields Open
DESCRIPTION:
URL:https://millvalesportsmens.com/event/trap-fields-open/2029-01-17/
LOCATION:Millvale Sportmen’s Club
CATEGORIES:Trap Event
END:VEVENT
BEGIN:VEVENT
DTSTART;TZID=America/New_York:20290124T183000
DTEND;TZID=America/New_York:20290124T210000
DTSTAMP:20260426T000952
CREATED:20250224T213635Z
LAST-MODIFIED:20250224T213635Z
UID:10004060-1863973800-1863982800@millvalesportsmens.com
SUMMARY:Trap Fields Open
DESCRIPTION:
URL:https://millvalesportsmens.com/event/trap-fields-open/2029-01-24/
LOCATION:Millvale Sportmen’s Club
CATEGORIES:Trap Event
END:VEVENT
BEGIN:VEVENT
DTSTART;TZID=America/New_York:20290131T183000
DTEND;TZID=America/New_York:20290131T210000
DTSTAMP:20260426T000952
CREATED:20250224T213635Z
LAST-MODIFIED:20250224T213635Z
UID:10004061-1864578600-1864587600@millvalesportsmens.com
SUMMARY:Trap Fields Open
DESCRIPTION:
URL:https://millvalesportsmens.com/event/trap-fields-open/2029-01-31/
LOCATION:Millvale Sportmen’s Club
CATEGORIES:Trap Event
END:VEVENT
BEGIN:VEVENT
DTSTART;TZID=America/New_York:20290207T183000
DTEND;TZID=America/New_York:20290207T210000
DTSTAMP:20260426T000952
CREATED:20250224T213635Z
LAST-MODIFIED:20250224T213635Z
UID:10004062-1865183400-1865192400@millvalesportsmens.com
SUMMARY:Trap Fields Open
DESCRIPTION:
URL:https://millvalesportsmens.com/event/trap-fields-open/2029-02-07/
LOCATION:Millvale Sportmen’s Club
CATEGORIES:Trap Event
END:VEVENT
BEGIN:VEVENT
DTSTART;TZID=America/New_York:20290214T183000
DTEND;TZID=America/New_York:20290214T210000
DTSTAMP:20260426T000952
CREATED:20250224T213635Z
LAST-MODIFIED:20250224T213635Z
UID:10004063-1865788200-1865797200@millvalesportsmens.com
SUMMARY:Trap Fields Open
DESCRIPTION:
URL:https://millvalesportsmens.com/event/trap-fields-open/2029-02-14/
LOCATION:Millvale Sportmen’s Club
CATEGORIES:Trap Event
END:VEVENT
BEGIN:VEVENT
DTSTART;TZID=America/New_York:20290221T183000
DTEND;TZID=America/New_York:20290221T210000
DTSTAMP:20260426T000952
CREATED:20250224T213635Z
LAST-MODIFIED:20250224T213635Z
UID:10004064-1866393000-1866402000@millvalesportsmens.com
SUMMARY:Trap Fields Open
DESCRIPTION:
URL:https://millvalesportsmens.com/event/trap-fields-open/2029-02-21/
LOCATION:Millvale Sportmen’s Club
CATEGORIES:Trap Event
END:VEVENT
BEGIN:VEVENT
DTSTART;TZID=America/New_York:20290228T183000
DTEND;TZID=America/New_York:20290228T210000
DTSTAMP:20260426T000952
CREATED:20250224T213635Z
LAST-MODIFIED:20250224T213635Z
UID:10004065-1866997800-1867006800@millvalesportsmens.com
SUMMARY:Trap Fields Open
DESCRIPTION:
URL:https://millvalesportsmens.com/event/trap-fields-open/2029-02-28/
LOCATION:Millvale Sportmen’s Club
CATEGORIES:Trap Event
END:VEVENT
END:VCALENDAR