BEGIN:VCALENDAR
VERSION:2.0
PRODID:-//Millvale Sportmens Club - ECPv6.15.16//NONSGML v1.0//EN
CALSCALE:GREGORIAN
METHOD:PUBLISH
X-WR-CALNAME:Millvale Sportmens Club
X-ORIGINAL-URL:https://millvalesportsmens.com
X-WR-CALDESC:Events for Millvale Sportmens Club
REFRESH-INTERVAL;VALUE=DURATION:PT1H
X-Robots-Tag:noindex
X-PUBLISHED-TTL:PT1H
BEGIN:VTIMEZONE
TZID:America/New_York
BEGIN:DAYLIGHT
TZOFFSETFROM:-0500
TZOFFSETTO:-0400
TZNAME:EDT
DTSTART:20240310T070000
END:DAYLIGHT
BEGIN:STANDARD
TZOFFSETFROM:-0400
TZOFFSETTO:-0500
TZNAME:EST
DTSTART:20241103T060000
END:STANDARD
BEGIN:DAYLIGHT
TZOFFSETFROM:-0500
TZOFFSETTO:-0400
TZNAME:EDT
DTSTART:20250309T070000
END:DAYLIGHT
BEGIN:STANDARD
TZOFFSETFROM:-0400
TZOFFSETTO:-0500
TZNAME:EST
DTSTART:20251102T060000
END:STANDARD
BEGIN:DAYLIGHT
TZOFFSETFROM:-0500
TZOFFSETTO:-0400
TZNAME:EDT
DTSTART:20260308T070000
END:DAYLIGHT
BEGIN:STANDARD
TZOFFSETFROM:-0400
TZOFFSETTO:-0500
TZNAME:EST
DTSTART:20261101T060000
END:STANDARD
BEGIN:DAYLIGHT
TZOFFSETFROM:-0500
TZOFFSETTO:-0400
TZNAME:EDT
DTSTART:20270314T070000
END:DAYLIGHT
BEGIN:STANDARD
TZOFFSETFROM:-0400
TZOFFSETTO:-0500
TZNAME:EST
DTSTART:20271107T060000
END:STANDARD
END:VTIMEZONE
BEGIN:VEVENT
DTSTART;TZID=America/New_York:20251217T183000
DTEND;TZID=America/New_York:20251217T210000
DTSTAMP:20260425T103613
CREATED:20250224T213635Z
LAST-MODIFIED:20250224T213635Z
UID:10003898-1765996200-1766005200@millvalesportsmens.com
SUMMARY:Trap Fields Open
DESCRIPTION:
URL:https://millvalesportsmens.com/event/trap-fields-open/2025-12-17/
LOCATION:Millvale Sportmen’s Club
CATEGORIES:Trap Event
END:VEVENT
BEGIN:VEVENT
DTSTART;TZID=America/New_York:20251221T090000
DTEND;TZID=America/New_York:20251221T120000
DTSTAMP:20260425T103613
CREATED:20250224T210545Z
LAST-MODIFIED:20250224T210545Z
UID:10003499-1766307600-1766318400@millvalesportsmens.com
SUMMARY:Trap Practice
DESCRIPTION:
URL:https://millvalesportsmens.com/event/trap-practice/2025-12-21/
LOCATION:Millvale Sportmen’s Club
CATEGORIES:Trap Event
END:VEVENT
BEGIN:VEVENT
DTSTART;TZID=America/New_York:20251224T183000
DTEND;TZID=America/New_York:20251224T210000
DTSTAMP:20260425T103613
CREATED:20250224T213635Z
LAST-MODIFIED:20250224T213635Z
UID:10003899-1766601000-1766610000@millvalesportsmens.com
SUMMARY:Trap Fields Open
DESCRIPTION:
URL:https://millvalesportsmens.com/event/trap-fields-open/2025-12-24/
LOCATION:Millvale Sportmen’s Club
CATEGORIES:Trap Event
END:VEVENT
BEGIN:VEVENT
DTSTART;TZID=America/New_York:20251228T090000
DTEND;TZID=America/New_York:20251228T120000
DTSTAMP:20260425T103613
CREATED:20250224T210545Z
LAST-MODIFIED:20250224T210545Z
UID:10003500-1766912400-1766923200@millvalesportsmens.com
SUMMARY:Trap Practice
DESCRIPTION:
URL:https://millvalesportsmens.com/event/trap-practice/2025-12-28/
LOCATION:Millvale Sportmen’s Club
CATEGORIES:Trap Event
END:VEVENT
BEGIN:VEVENT
DTSTART;TZID=America/New_York:20251231T183000
DTEND;TZID=America/New_York:20251231T210000
DTSTAMP:20260425T103613
CREATED:20250224T213635Z
LAST-MODIFIED:20250224T213635Z
UID:10003900-1767205800-1767214800@millvalesportsmens.com
SUMMARY:Trap Fields Open
DESCRIPTION:
URL:https://millvalesportsmens.com/event/trap-fields-open/2025-12-31/
LOCATION:Millvale Sportmen’s Club
CATEGORIES:Trap Event
END:VEVENT
BEGIN:VEVENT
DTSTART;TZID=America/New_York:20260104T090000
DTEND;TZID=America/New_York:20260104T120000
DTSTAMP:20260425T103613
CREATED:20250224T210545Z
LAST-MODIFIED:20250224T210545Z
UID:10003501-1767517200-1767528000@millvalesportsmens.com
SUMMARY:Trap Practice
DESCRIPTION:
URL:https://millvalesportsmens.com/event/trap-practice/2026-01-04/
LOCATION:Millvale Sportmen’s Club
CATEGORIES:Trap Event
END:VEVENT
BEGIN:VEVENT
DTSTART;TZID=America/New_York:20260107T183000
DTEND;TZID=America/New_York:20260107T210000
DTSTAMP:20260425T103613
CREATED:20250224T213635Z
LAST-MODIFIED:20250224T213635Z
UID:10003901-1767810600-1767819600@millvalesportsmens.com
SUMMARY:Trap Fields Open
DESCRIPTION:
URL:https://millvalesportsmens.com/event/trap-fields-open/2026-01-07/
LOCATION:Millvale Sportmen’s Club
CATEGORIES:Trap Event
END:VEVENT
BEGIN:VEVENT
DTSTART;TZID=America/New_York:20260111T090000
DTEND;TZID=America/New_York:20260111T120000
DTSTAMP:20260425T103613
CREATED:20250224T210545Z
LAST-MODIFIED:20250224T210545Z
UID:10003502-1768122000-1768132800@millvalesportsmens.com
SUMMARY:Trap Practice
DESCRIPTION:
URL:https://millvalesportsmens.com/event/trap-practice/2026-01-11/
LOCATION:Millvale Sportmen’s Club
CATEGORIES:Trap Event
END:VEVENT
BEGIN:VEVENT
DTSTART;TZID=America/New_York:20260114T183000
DTEND;TZID=America/New_York:20260114T210000
DTSTAMP:20260425T103613
CREATED:20250224T213635Z
LAST-MODIFIED:20250224T213635Z
UID:10003902-1768415400-1768424400@millvalesportsmens.com
SUMMARY:Trap Fields Open
DESCRIPTION:
URL:https://millvalesportsmens.com/event/trap-fields-open/2026-01-14/
LOCATION:Millvale Sportmen’s Club
CATEGORIES:Trap Event
END:VEVENT
BEGIN:VEVENT
DTSTART;TZID=America/New_York:20260118T090000
DTEND;TZID=America/New_York:20260118T110000
DTSTAMP:20260425T103613
CREATED:20250915T211419Z
LAST-MODIFIED:20251007T205032Z
UID:10004583-1768726800-1768734000@millvalesportsmens.com
SUMMARY:ATA Registered Shoots
DESCRIPTION:Cost per 100 Birds is $32.00\n(Includes $7.00 fee for ATA and PSSA)\nWe shoot handicap and doubles \nSignup from 9:00am to 9:30am. Shoot runs until about 11:00am
URL:https://millvalesportsmens.com/event/ata-registered-shoots/2026-01-18/
LOCATION:Millvale Sportmen’s Club
CATEGORIES:Event,Trap Event
ATTACH;FMTTYPE=image/jpeg:https://millvalesportsmens.com/wp-content/uploads/2018/06/skeet-shooting.jpg
END:VEVENT
BEGIN:VEVENT
DTSTART;TZID=America/New_York:20260118T090000
DTEND;TZID=America/New_York:20260118T120000
DTSTAMP:20260425T103613
CREATED:20250224T210545Z
LAST-MODIFIED:20250224T210545Z
UID:10003503-1768726800-1768737600@millvalesportsmens.com
SUMMARY:Trap Practice
DESCRIPTION:
URL:https://millvalesportsmens.com/event/trap-practice/2026-01-18/
LOCATION:Millvale Sportmen’s Club
CATEGORIES:Trap Event
END:VEVENT
BEGIN:VEVENT
DTSTART;TZID=America/New_York:20260121T183000
DTEND;TZID=America/New_York:20260121T210000
DTSTAMP:20260425T103613
CREATED:20250224T213635Z
LAST-MODIFIED:20250224T213635Z
UID:10003903-1769020200-1769029200@millvalesportsmens.com
SUMMARY:Trap Fields Open
DESCRIPTION:
URL:https://millvalesportsmens.com/event/trap-fields-open/2026-01-21/
LOCATION:Millvale Sportmen’s Club
CATEGORIES:Trap Event
END:VEVENT
BEGIN:VEVENT
DTSTART;TZID=America/New_York:20260125T090000
DTEND;TZID=America/New_York:20260125T120000
DTSTAMP:20260425T103613
CREATED:20250224T210545Z
LAST-MODIFIED:20250224T210545Z
UID:10003504-1769331600-1769342400@millvalesportsmens.com
SUMMARY:Trap Practice
DESCRIPTION:
URL:https://millvalesportsmens.com/event/trap-practice/2026-01-25/
LOCATION:Millvale Sportmen’s Club
CATEGORIES:Trap Event
END:VEVENT
BEGIN:VEVENT
DTSTART;TZID=America/New_York:20260128T183000
DTEND;TZID=America/New_York:20260128T210000
DTSTAMP:20260425T103613
CREATED:20250224T213635Z
LAST-MODIFIED:20250224T213635Z
UID:10003904-1769625000-1769634000@millvalesportsmens.com
SUMMARY:Trap Fields Open
DESCRIPTION:
URL:https://millvalesportsmens.com/event/trap-fields-open/2026-01-28/
LOCATION:Millvale Sportmen’s Club
CATEGORIES:Trap Event
END:VEVENT
BEGIN:VEVENT
DTSTART;TZID=America/New_York:20260201T090000
DTEND;TZID=America/New_York:20260201T120000
DTSTAMP:20260425T103613
CREATED:20250224T210545Z
LAST-MODIFIED:20250224T210545Z
UID:10003505-1769936400-1769947200@millvalesportsmens.com
SUMMARY:Trap Practice
DESCRIPTION:
URL:https://millvalesportsmens.com/event/trap-practice/2026-02-01/
LOCATION:Millvale Sportmen’s Club
CATEGORIES:Trap Event
END:VEVENT
BEGIN:VEVENT
DTSTART;TZID=America/New_York:20260204T183000
DTEND;TZID=America/New_York:20260204T210000
DTSTAMP:20260425T103613
CREATED:20250224T213635Z
LAST-MODIFIED:20250224T213635Z
UID:10003905-1770229800-1770238800@millvalesportsmens.com
SUMMARY:Trap Fields Open
DESCRIPTION:
URL:https://millvalesportsmens.com/event/trap-fields-open/2026-02-04/
LOCATION:Millvale Sportmen’s Club
CATEGORIES:Trap Event
END:VEVENT
BEGIN:VEVENT
DTSTART;TZID=America/New_York:20260208T090000
DTEND;TZID=America/New_York:20260208T120000
DTSTAMP:20260425T103613
CREATED:20250224T210545Z
LAST-MODIFIED:20250224T210545Z
UID:10003506-1770541200-1770552000@millvalesportsmens.com
SUMMARY:Trap Practice
DESCRIPTION:
URL:https://millvalesportsmens.com/event/trap-practice/2026-02-08/
LOCATION:Millvale Sportmen’s Club
CATEGORIES:Trap Event
END:VEVENT
BEGIN:VEVENT
DTSTART;TZID=America/New_York:20260211T183000
DTEND;TZID=America/New_York:20260211T210000
DTSTAMP:20260425T103613
CREATED:20250224T213635Z
LAST-MODIFIED:20250224T213635Z
UID:10003906-1770834600-1770843600@millvalesportsmens.com
SUMMARY:Trap Fields Open
DESCRIPTION:
URL:https://millvalesportsmens.com/event/trap-fields-open/2026-02-11/
LOCATION:Millvale Sportmen’s Club
CATEGORIES:Trap Event
END:VEVENT
BEGIN:VEVENT
DTSTART;TZID=America/New_York:20260215T090000
DTEND;TZID=America/New_York:20260215T110000
DTSTAMP:20260425T103613
CREATED:20250915T211419Z
LAST-MODIFIED:20251007T205032Z
UID:10004584-1771146000-1771153200@millvalesportsmens.com
SUMMARY:ATA Registered Shoots
DESCRIPTION:Cost per 100 Birds is $32.00\n(Includes $7.00 fee for ATA and PSSA)\nWe shoot handicap and doubles \nSignup from 9:00am to 9:30am. Shoot runs until about 11:00am
URL:https://millvalesportsmens.com/event/ata-registered-shoots/2026-02-15/
LOCATION:Millvale Sportmen’s Club
CATEGORIES:Event,Trap Event
ATTACH;FMTTYPE=image/jpeg:https://millvalesportsmens.com/wp-content/uploads/2018/06/skeet-shooting.jpg
END:VEVENT
BEGIN:VEVENT
DTSTART;TZID=America/New_York:20260215T090000
DTEND;TZID=America/New_York:20260215T120000
DTSTAMP:20260425T103613
CREATED:20250224T210545Z
LAST-MODIFIED:20250224T210545Z
UID:10003507-1771146000-1771156800@millvalesportsmens.com
SUMMARY:Trap Practice
DESCRIPTION:
URL:https://millvalesportsmens.com/event/trap-practice/2026-02-15/
LOCATION:Millvale Sportmen’s Club
CATEGORIES:Trap Event
END:VEVENT
BEGIN:VEVENT
DTSTART;TZID=America/New_York:20260218T183000
DTEND;TZID=America/New_York:20260218T210000
DTSTAMP:20260425T103613
CREATED:20250224T213635Z
LAST-MODIFIED:20250224T213635Z
UID:10003907-1771439400-1771448400@millvalesportsmens.com
SUMMARY:Trap Fields Open
DESCRIPTION:
URL:https://millvalesportsmens.com/event/trap-fields-open/2026-02-18/
LOCATION:Millvale Sportmen’s Club
CATEGORIES:Trap Event
END:VEVENT
BEGIN:VEVENT
DTSTART;TZID=America/New_York:20260222T090000
DTEND;TZID=America/New_York:20260222T120000
DTSTAMP:20260425T103613
CREATED:20250224T210545Z
LAST-MODIFIED:20250224T210545Z
UID:10003508-1771750800-1771761600@millvalesportsmens.com
SUMMARY:Trap Practice
DESCRIPTION:
URL:https://millvalesportsmens.com/event/trap-practice/2026-02-22/
LOCATION:Millvale Sportmen’s Club
CATEGORIES:Trap Event
END:VEVENT
BEGIN:VEVENT
DTSTART;TZID=America/New_York:20260225T183000
DTEND;TZID=America/New_York:20260225T210000
DTSTAMP:20260425T103613
CREATED:20250224T213635Z
LAST-MODIFIED:20250224T213635Z
UID:10003908-1772044200-1772053200@millvalesportsmens.com
SUMMARY:Trap Fields Open
DESCRIPTION:
URL:https://millvalesportsmens.com/event/trap-fields-open/2026-02-25/
LOCATION:Millvale Sportmen’s Club
CATEGORIES:Trap Event
END:VEVENT
BEGIN:VEVENT
DTSTART;TZID=America/New_York:20260301T090000
DTEND;TZID=America/New_York:20260301T110000
DTSTAMP:20260425T103613
CREATED:20250915T211419Z
LAST-MODIFIED:20251007T205032Z
UID:10004585-1772355600-1772362800@millvalesportsmens.com
SUMMARY:ATA Registered Shoots
DESCRIPTION:Cost per 100 Birds is $32.00\n(Includes $7.00 fee for ATA and PSSA)\nWe shoot handicap and doubles \nSignup from 9:00am to 9:30am. Shoot runs until about 11:00am
URL:https://millvalesportsmens.com/event/ata-registered-shoots/2026-03-01/
LOCATION:Millvale Sportmen’s Club
CATEGORIES:Event,Trap Event
ATTACH;FMTTYPE=image/jpeg:https://millvalesportsmens.com/wp-content/uploads/2018/06/skeet-shooting.jpg
END:VEVENT
BEGIN:VEVENT
DTSTART;TZID=America/New_York:20260301T090000
DTEND;TZID=America/New_York:20260301T120000
DTSTAMP:20260425T103613
CREATED:20250224T210545Z
LAST-MODIFIED:20250224T210545Z
UID:10003509-1772355600-1772366400@millvalesportsmens.com
SUMMARY:Trap Practice
DESCRIPTION:
URL:https://millvalesportsmens.com/event/trap-practice/2026-03-01/
LOCATION:Millvale Sportmen’s Club
CATEGORIES:Trap Event
END:VEVENT
BEGIN:VEVENT
DTSTART;TZID=America/New_York:20260304T183000
DTEND;TZID=America/New_York:20260304T210000
DTSTAMP:20260425T103613
CREATED:20250224T213635Z
LAST-MODIFIED:20250224T213635Z
UID:10003909-1772649000-1772658000@millvalesportsmens.com
SUMMARY:Trap Fields Open
DESCRIPTION:
URL:https://millvalesportsmens.com/event/trap-fields-open/2026-03-04/
LOCATION:Millvale Sportmen’s Club
CATEGORIES:Trap Event
END:VEVENT
BEGIN:VEVENT
DTSTART;TZID=America/New_York:20260308T090000
DTEND;TZID=America/New_York:20260308T120000
DTSTAMP:20260425T103613
CREATED:20250224T210545Z
LAST-MODIFIED:20250224T210545Z
UID:10003510-1772960400-1772971200@millvalesportsmens.com
SUMMARY:Trap Practice
DESCRIPTION:
URL:https://millvalesportsmens.com/event/trap-practice/2026-03-08/
LOCATION:Millvale Sportmen’s Club
CATEGORIES:Trap Event
END:VEVENT
BEGIN:VEVENT
DTSTART;TZID=America/New_York:20260311T170000
DTEND;TZID=America/New_York:20260311T210000
DTSTAMP:20260425T103613
CREATED:20260301T220532Z
LAST-MODIFIED:20260301T220532Z
UID:10004788-1773248400-1773262800@millvalesportsmens.com
SUMMARY:Summer Trap League
DESCRIPTION:Sign ups start at 5pm with shooting starting at 530 pm.\nWe shoot 25- 16yard targets and 25-22 yard targets.\nLeague is 25 weeks long with a banquet at the end of league.\nPrice is $17.00 per 50 targets which pays for targets and league banquet prizes.\nTo be eligible for banquet at end of league you must have 22 shoots for league prizes\, and 19 shoots to be eligible to come to banquet on September 19th.\n\nQuestions\, contact Dennis Rask at raskf3@gmail.com \nHope to see you on the trap field.
URL:https://millvalesportsmens.com/event/summer-trap-league-3/2026-03-11/
LOCATION:Millvale Sportmen’s Club
CATEGORIES:Event,Featured Homepage,Trap Event
ATTACH;FMTTYPE=image/jpeg:https://millvalesportsmens.com/wp-content/uploads/2015/07/trap-field.jpg
END:VEVENT
BEGIN:VEVENT
DTSTART;TZID=America/New_York:20260311T183000
DTEND;TZID=America/New_York:20260311T210000
DTSTAMP:20260425T103613
CREATED:20250224T213635Z
LAST-MODIFIED:20250224T213635Z
UID:10003910-1773253800-1773262800@millvalesportsmens.com
SUMMARY:Trap Fields Open
DESCRIPTION:
URL:https://millvalesportsmens.com/event/trap-fields-open/2026-03-11/
LOCATION:Millvale Sportmen’s Club
CATEGORIES:Trap Event
END:VEVENT
BEGIN:VEVENT
DTSTART;TZID=America/New_York:20260315T090000
DTEND;TZID=America/New_York:20260315T120000
DTSTAMP:20260425T103613
CREATED:20250224T210545Z
LAST-MODIFIED:20250224T210545Z
UID:10003511-1773565200-1773576000@millvalesportsmens.com
SUMMARY:Trap Practice
DESCRIPTION:
URL:https://millvalesportsmens.com/event/trap-practice/2026-03-15/
LOCATION:Millvale Sportmen’s Club
CATEGORIES:Trap Event
END:VEVENT
END:VCALENDAR