BEGIN:VCALENDAR
VERSION:2.0
PRODID:-//Millvale Sportmens Club - ECPv6.15.16//NONSGML v1.0//EN
CALSCALE:GREGORIAN
METHOD:PUBLISH
X-WR-CALNAME:Millvale Sportmens Club
X-ORIGINAL-URL:https://millvalesportsmens.com
X-WR-CALDESC:Events for Millvale Sportmens Club
REFRESH-INTERVAL;VALUE=DURATION:PT1H
X-Robots-Tag:noindex
X-PUBLISHED-TTL:PT1H
BEGIN:VTIMEZONE
TZID:America/New_York
BEGIN:DAYLIGHT
TZOFFSETFROM:-0500
TZOFFSETTO:-0400
TZNAME:EDT
DTSTART:20240310T070000
END:DAYLIGHT
BEGIN:STANDARD
TZOFFSETFROM:-0400
TZOFFSETTO:-0500
TZNAME:EST
DTSTART:20241103T060000
END:STANDARD
BEGIN:DAYLIGHT
TZOFFSETFROM:-0500
TZOFFSETTO:-0400
TZNAME:EDT
DTSTART:20250309T070000
END:DAYLIGHT
BEGIN:STANDARD
TZOFFSETFROM:-0400
TZOFFSETTO:-0500
TZNAME:EST
DTSTART:20251102T060000
END:STANDARD
BEGIN:DAYLIGHT
TZOFFSETFROM:-0500
TZOFFSETTO:-0400
TZNAME:EDT
DTSTART:20260308T070000
END:DAYLIGHT
BEGIN:STANDARD
TZOFFSETFROM:-0400
TZOFFSETTO:-0500
TZNAME:EST
DTSTART:20261101T060000
END:STANDARD
END:VTIMEZONE
BEGIN:VEVENT
DTSTART;TZID=America/New_York:20250820T170000
DTEND;TZID=America/New_York:20250820T210000
DTSTAMP:20260425T120050
CREATED:20260301T215824Z
LAST-MODIFIED:20260301T215824Z
UID:10004787-1755709200-1755723600@millvalesportsmens.com
SUMMARY:Summer Trap League
DESCRIPTION:Sign ups start at 5pm with shooting starting at 530 pm.\nWe shoot 25- 16yard targets and 25-22 yard targets.\nLeague is 25 weeks long with a banquet at the end of league.\nPrice is $17.00 per 50 targets which pays for targets and league banquet prizes.\nTo be eligible for banquet at end of league you must have 22 shoots for league prizes\, and 19 shoots to be eligible to come to banquet.\n\nQuestions\, contact Dennis Rask at raskf3@gmail.com \nHope to see you on the trap field.
URL:https://millvalesportsmens.com/event/summer-trap-league-2/2025-08-20/
LOCATION:Millvale Sportmen’s Club
CATEGORIES:Event,Featured Homepage,Trap Event
ATTACH;FMTTYPE=image/jpeg:https://millvalesportsmens.com/wp-content/uploads/2018/06/skeet-shooting.jpg
END:VEVENT
BEGIN:VEVENT
DTSTART;TZID=America/New_York:20250820T183000
DTEND;TZID=America/New_York:20250820T210000
DTSTAMP:20260425T120050
CREATED:20250224T213635Z
LAST-MODIFIED:20250224T213635Z
UID:10003881-1755714600-1755723600@millvalesportsmens.com
SUMMARY:Trap Fields Open
DESCRIPTION:
URL:https://millvalesportsmens.com/event/trap-fields-open/2025-08-20/
LOCATION:Millvale Sportmen’s Club
CATEGORIES:Trap Event
END:VEVENT
BEGIN:VEVENT
DTSTART;TZID=America/New_York:20250824T090000
DTEND;TZID=America/New_York:20250824T120000
DTSTAMP:20260425T120050
CREATED:20250224T210545Z
LAST-MODIFIED:20250224T210545Z
UID:10003482-1756026000-1756036800@millvalesportsmens.com
SUMMARY:Trap Practice
DESCRIPTION:
URL:https://millvalesportsmens.com/event/trap-practice/2025-08-24/
LOCATION:Millvale Sportmen’s Club
CATEGORIES:Trap Event
END:VEVENT
BEGIN:VEVENT
DTSTART;TZID=America/New_York:20250827T183000
DTEND;TZID=America/New_York:20250827T210000
DTSTAMP:20260425T120050
CREATED:20250224T213635Z
LAST-MODIFIED:20250224T213635Z
UID:10003882-1756319400-1756328400@millvalesportsmens.com
SUMMARY:Trap Fields Open
DESCRIPTION:
URL:https://millvalesportsmens.com/event/trap-fields-open/2025-08-27/
LOCATION:Millvale Sportmen’s Club
CATEGORIES:Trap Event
END:VEVENT
BEGIN:VEVENT
DTSTART;TZID=America/New_York:20250831T090000
DTEND;TZID=America/New_York:20250831T120000
DTSTAMP:20260425T120050
CREATED:20250224T210545Z
LAST-MODIFIED:20250224T210545Z
UID:10003483-1756630800-1756641600@millvalesportsmens.com
SUMMARY:Trap Practice
DESCRIPTION:
URL:https://millvalesportsmens.com/event/trap-practice/2025-08-31/
LOCATION:Millvale Sportmen’s Club
CATEGORIES:Trap Event
END:VEVENT
BEGIN:VEVENT
DTSTART;TZID=America/New_York:20250903T183000
DTEND;TZID=America/New_York:20250903T210000
DTSTAMP:20260425T120050
CREATED:20250224T213635Z
LAST-MODIFIED:20250224T213635Z
UID:10003883-1756924200-1756933200@millvalesportsmens.com
SUMMARY:Trap Fields Open
DESCRIPTION:
URL:https://millvalesportsmens.com/event/trap-fields-open/2025-09-03/
LOCATION:Millvale Sportmen’s Club
CATEGORIES:Trap Event
END:VEVENT
BEGIN:VEVENT
DTSTART;TZID=America/New_York:20250907T090000
DTEND;TZID=America/New_York:20250907T120000
DTSTAMP:20260425T120050
CREATED:20250224T210545Z
LAST-MODIFIED:20250224T210545Z
UID:10003484-1757235600-1757246400@millvalesportsmens.com
SUMMARY:Trap Practice
DESCRIPTION:
URL:https://millvalesportsmens.com/event/trap-practice/2025-09-07/
LOCATION:Millvale Sportmen’s Club
CATEGORIES:Trap Event
END:VEVENT
BEGIN:VEVENT
DTSTART;TZID=America/New_York:20250910T183000
DTEND;TZID=America/New_York:20250910T210000
DTSTAMP:20260425T120050
CREATED:20250224T213635Z
LAST-MODIFIED:20250224T213635Z
UID:10003884-1757529000-1757538000@millvalesportsmens.com
SUMMARY:Trap Fields Open
DESCRIPTION:
URL:https://millvalesportsmens.com/event/trap-fields-open/2025-09-10/
LOCATION:Millvale Sportmen’s Club
CATEGORIES:Trap Event
END:VEVENT
BEGIN:VEVENT
DTSTART;TZID=America/New_York:20250914T090000
DTEND;TZID=America/New_York:20250914T120000
DTSTAMP:20260425T120050
CREATED:20250224T210545Z
LAST-MODIFIED:20250224T210545Z
UID:10003485-1757840400-1757851200@millvalesportsmens.com
SUMMARY:Trap Practice
DESCRIPTION:
URL:https://millvalesportsmens.com/event/trap-practice/2025-09-14/
LOCATION:Millvale Sportmen’s Club
CATEGORIES:Trap Event
END:VEVENT
BEGIN:VEVENT
DTSTART;TZID=America/New_York:20250917T183000
DTEND;TZID=America/New_York:20250917T210000
DTSTAMP:20260425T120050
CREATED:20250224T213635Z
LAST-MODIFIED:20250224T213635Z
UID:10003885-1758133800-1758142800@millvalesportsmens.com
SUMMARY:Trap Fields Open
DESCRIPTION:
URL:https://millvalesportsmens.com/event/trap-fields-open/2025-09-17/
LOCATION:Millvale Sportmen’s Club
CATEGORIES:Trap Event
END:VEVENT
BEGIN:VEVENT
DTSTART;TZID=America/New_York:20250921T090000
DTEND;TZID=America/New_York:20250921T120000
DTSTAMP:20260425T120050
CREATED:20250224T210545Z
LAST-MODIFIED:20250224T210545Z
UID:10003486-1758445200-1758456000@millvalesportsmens.com
SUMMARY:Trap Practice
DESCRIPTION:
URL:https://millvalesportsmens.com/event/trap-practice/2025-09-21/
LOCATION:Millvale Sportmen’s Club
CATEGORIES:Trap Event
END:VEVENT
BEGIN:VEVENT
DTSTART;TZID=America/New_York:20250924T183000
DTEND;TZID=America/New_York:20250924T210000
DTSTAMP:20260425T120050
CREATED:20250224T213635Z
LAST-MODIFIED:20250224T213635Z
UID:10003886-1758738600-1758747600@millvalesportsmens.com
SUMMARY:Trap Fields Open
DESCRIPTION:
URL:https://millvalesportsmens.com/event/trap-fields-open/2025-09-24/
LOCATION:Millvale Sportmen’s Club
CATEGORIES:Trap Event
END:VEVENT
BEGIN:VEVENT
DTSTART;TZID=America/New_York:20250928T090000
DTEND;TZID=America/New_York:20250928T120000
DTSTAMP:20260425T120050
CREATED:20250224T210545Z
LAST-MODIFIED:20250224T210545Z
UID:10003487-1759050000-1759060800@millvalesportsmens.com
SUMMARY:Trap Practice
DESCRIPTION:
URL:https://millvalesportsmens.com/event/trap-practice/2025-09-28/
LOCATION:Millvale Sportmen’s Club
CATEGORIES:Trap Event
END:VEVENT
BEGIN:VEVENT
DTSTART;TZID=America/New_York:20251001T183000
DTEND;TZID=America/New_York:20251001T210000
DTSTAMP:20260425T120050
CREATED:20250224T213635Z
LAST-MODIFIED:20250224T213635Z
UID:10003887-1759343400-1759352400@millvalesportsmens.com
SUMMARY:Trap Fields Open
DESCRIPTION:
URL:https://millvalesportsmens.com/event/trap-fields-open/2025-10-01/
LOCATION:Millvale Sportmen’s Club
CATEGORIES:Trap Event
END:VEVENT
BEGIN:VEVENT
DTSTART;VALUE=DATE:20251004
DTEND;VALUE=DATE:20251005
DTSTAMP:20260425T120050
CREATED:20251003T142946Z
LAST-MODIFIED:20251003T143011Z
UID:10004580-1759536000-1759622399@millvalesportsmens.com
SUMMARY:Skeet\, Trap and 5 Stand Fields CLOSED SATURDAY
DESCRIPTION:Skeet\, trap and 5 stand fields are closed on Saturday due to lead reclamation work over the hillside.
URL:https://millvalesportsmens.com/event/skeet-trap-and-5-stand-fields-closed-today/
LOCATION:Millvale Sportmen’s Club
CATEGORIES:Featured Homepage,Skeet Event,Trap Event
ATTACH;FMTTYPE=image/jpeg:https://millvalesportsmens.com/wp-content/uploads/2015/07/trap-range.jpg
END:VEVENT
BEGIN:VEVENT
DTSTART;TZID=America/New_York:20251005T090000
DTEND;TZID=America/New_York:20251005T120000
DTSTAMP:20260425T120050
CREATED:20250224T210545Z
LAST-MODIFIED:20250224T210545Z
UID:10003488-1759654800-1759665600@millvalesportsmens.com
SUMMARY:Trap Practice
DESCRIPTION:
URL:https://millvalesportsmens.com/event/trap-practice/2025-10-05/
LOCATION:Millvale Sportmen’s Club
CATEGORIES:Trap Event
END:VEVENT
BEGIN:VEVENT
DTSTART;TZID=America/New_York:20251008T183000
DTEND;TZID=America/New_York:20251008T210000
DTSTAMP:20260425T120050
CREATED:20250224T213635Z
LAST-MODIFIED:20250224T213635Z
UID:10003888-1759948200-1759957200@millvalesportsmens.com
SUMMARY:Trap Fields Open
DESCRIPTION:
URL:https://millvalesportsmens.com/event/trap-fields-open/2025-10-08/
LOCATION:Millvale Sportmen’s Club
CATEGORIES:Trap Event
END:VEVENT
BEGIN:VEVENT
DTSTART;TZID=America/New_York:20251012T090000
DTEND;TZID=America/New_York:20251012T110000
DTSTAMP:20260425T120050
CREATED:20250915T211419Z
LAST-MODIFIED:20251007T205032Z
UID:10004578-1760259600-1760266800@millvalesportsmens.com
SUMMARY:ATA Registered Shoots
DESCRIPTION:Cost per 100 Birds is $32.00\n(Includes $7.00 fee for ATA and PSSA)\nWe shoot handicap and doubles \nSignup from 9:00am to 9:30am. Shoot runs until about 11:00am
URL:https://millvalesportsmens.com/event/ata-registered-shoots/2025-10-12/
LOCATION:Millvale Sportmen’s Club
CATEGORIES:Event,Trap Event
ATTACH;FMTTYPE=image/jpeg:https://millvalesportsmens.com/wp-content/uploads/2018/06/skeet-shooting.jpg
END:VEVENT
BEGIN:VEVENT
DTSTART;TZID=America/New_York:20251012T090000
DTEND;TZID=America/New_York:20251012T120000
DTSTAMP:20260425T120050
CREATED:20250224T210545Z
LAST-MODIFIED:20250224T210545Z
UID:10003489-1760259600-1760270400@millvalesportsmens.com
SUMMARY:Trap Practice
DESCRIPTION:
URL:https://millvalesportsmens.com/event/trap-practice/2025-10-12/
LOCATION:Millvale Sportmen’s Club
CATEGORIES:Trap Event
END:VEVENT
BEGIN:VEVENT
DTSTART;TZID=America/New_York:20251015T183000
DTEND;TZID=America/New_York:20251015T210000
DTSTAMP:20260425T120050
CREATED:20250224T213635Z
LAST-MODIFIED:20250224T213635Z
UID:10003889-1760553000-1760562000@millvalesportsmens.com
SUMMARY:Trap Fields Open
DESCRIPTION:
URL:https://millvalesportsmens.com/event/trap-fields-open/2025-10-15/
LOCATION:Millvale Sportmen’s Club
CATEGORIES:Trap Event
END:VEVENT
BEGIN:VEVENT
DTSTART;VALUE=DATE:20251018
DTEND;VALUE=DATE:20251019
DTSTAMP:20260425T120050
CREATED:20251017T162212Z
LAST-MODIFIED:20251017T162212Z
UID:10004592-1760745600-1760831999@millvalesportsmens.com
SUMMARY:Skeet\, Trap and 5 Stand Fields CLOSED SATURDAY
DESCRIPTION:Skeet\, trap and 5 stand fields are closed on Saturday due to lead reclamation work over the hillside.
URL:https://millvalesportsmens.com/event/skeet-trap-and-5-stand-fields-closed-saturday/2025-10-18/
LOCATION:Millvale Sportmen’s Club
CATEGORIES:Featured Homepage,Skeet Event,Trap Event
ATTACH;FMTTYPE=image/jpeg:https://millvalesportsmens.com/wp-content/uploads/2015/07/trap-range.jpg
END:VEVENT
BEGIN:VEVENT
DTSTART;TZID=America/New_York:20251019T090000
DTEND;TZID=America/New_York:20251019T120000
DTSTAMP:20260425T120050
CREATED:20250224T210545Z
LAST-MODIFIED:20250224T210545Z
UID:10003490-1760864400-1760875200@millvalesportsmens.com
SUMMARY:Trap Practice
DESCRIPTION:
URL:https://millvalesportsmens.com/event/trap-practice/2025-10-19/
LOCATION:Millvale Sportmen’s Club
CATEGORIES:Trap Event
END:VEVENT
BEGIN:VEVENT
DTSTART;TZID=America/New_York:20251022T183000
DTEND;TZID=America/New_York:20251022T210000
DTSTAMP:20260425T120050
CREATED:20250224T213635Z
LAST-MODIFIED:20250224T213635Z
UID:10003890-1761157800-1761166800@millvalesportsmens.com
SUMMARY:Trap Fields Open
DESCRIPTION:
URL:https://millvalesportsmens.com/event/trap-fields-open/2025-10-22/
LOCATION:Millvale Sportmen’s Club
CATEGORIES:Trap Event
END:VEVENT
BEGIN:VEVENT
DTSTART;VALUE=DATE:20251025
DTEND;VALUE=DATE:20251026
DTSTAMP:20260425T120050
CREATED:20251017T162212Z
LAST-MODIFIED:20251017T162212Z
UID:10004593-1761379200-1761411600@millvalesportsmens.com
SUMMARY:Skeet\, Trap and 5 Stand Fields CLOSED SATURDAY
DESCRIPTION:Skeet\, trap and 5 stand fields are closed on Saturday due to lead reclamation work over the hillside.
URL:https://millvalesportsmens.com/event/skeet-trap-and-5-stand-fields-closed-saturday/2025-10-25/
LOCATION:Millvale Sportmen’s Club
CATEGORIES:Featured Homepage,Skeet Event,Trap Event
ATTACH;FMTTYPE=image/jpeg:https://millvalesportsmens.com/wp-content/uploads/2015/07/trap-range.jpg
END:VEVENT
BEGIN:VEVENT
DTSTART;TZID=America/New_York:20251026T090000
DTEND;TZID=America/New_York:20251026T120000
DTSTAMP:20260425T120050
CREATED:20250224T210545Z
LAST-MODIFIED:20250224T210545Z
UID:10003491-1761469200-1761480000@millvalesportsmens.com
SUMMARY:Trap Practice
DESCRIPTION:
URL:https://millvalesportsmens.com/event/trap-practice/2025-10-26/
LOCATION:Millvale Sportmen’s Club
CATEGORIES:Trap Event
END:VEVENT
BEGIN:VEVENT
DTSTART;TZID=America/New_York:20251029T183000
DTEND;TZID=America/New_York:20251029T210000
DTSTAMP:20260425T120050
CREATED:20250224T213635Z
LAST-MODIFIED:20250224T213635Z
UID:10003891-1761762600-1761771600@millvalesportsmens.com
SUMMARY:Trap Fields Open
DESCRIPTION:
URL:https://millvalesportsmens.com/event/trap-fields-open/2025-10-29/
LOCATION:Millvale Sportmen’s Club
CATEGORIES:Trap Event
END:VEVENT
BEGIN:VEVENT
DTSTART;TZID=America/New_York:20251102T090000
DTEND;TZID=America/New_York:20251102T110000
DTSTAMP:20260425T120050
CREATED:20250915T211419Z
LAST-MODIFIED:20251007T205032Z
UID:10004581-1762074000-1762081200@millvalesportsmens.com
SUMMARY:ATA Registered Shoots
DESCRIPTION:Cost per 100 Birds is $32.00\n(Includes $7.00 fee for ATA and PSSA)\nWe shoot handicap and doubles \nSignup from 9:00am to 9:30am. Shoot runs until about 11:00am
URL:https://millvalesportsmens.com/event/ata-registered-shoots/2025-11-02/
LOCATION:Millvale Sportmen’s Club
CATEGORIES:Event,Trap Event
ATTACH;FMTTYPE=image/jpeg:https://millvalesportsmens.com/wp-content/uploads/2018/06/skeet-shooting.jpg
END:VEVENT
BEGIN:VEVENT
DTSTART;TZID=America/New_York:20251102T090000
DTEND;TZID=America/New_York:20251102T120000
DTSTAMP:20260425T120050
CREATED:20250224T210545Z
LAST-MODIFIED:20250224T210545Z
UID:10003492-1762074000-1762084800@millvalesportsmens.com
SUMMARY:Trap Practice
DESCRIPTION:
URL:https://millvalesportsmens.com/event/trap-practice/2025-11-02/
LOCATION:Millvale Sportmen’s Club
CATEGORIES:Trap Event
END:VEVENT
BEGIN:VEVENT
DTSTART;TZID=America/New_York:20251105T183000
DTEND;TZID=America/New_York:20251105T210000
DTSTAMP:20260425T120050
CREATED:20250224T213635Z
LAST-MODIFIED:20250224T213635Z
UID:10003892-1762367400-1762376400@millvalesportsmens.com
SUMMARY:Trap Fields Open
DESCRIPTION:
URL:https://millvalesportsmens.com/event/trap-fields-open/2025-11-05/
LOCATION:Millvale Sportmen’s Club
CATEGORIES:Trap Event
END:VEVENT
BEGIN:VEVENT
DTSTART;TZID=America/New_York:20251109T090000
DTEND;TZID=America/New_York:20251109T120000
DTSTAMP:20260425T120050
CREATED:20250224T210545Z
LAST-MODIFIED:20250224T210545Z
UID:10003493-1762678800-1762689600@millvalesportsmens.com
SUMMARY:Trap Practice
DESCRIPTION:
URL:https://millvalesportsmens.com/event/trap-practice/2025-11-09/
LOCATION:Millvale Sportmen’s Club
CATEGORIES:Trap Event
END:VEVENT
END:VCALENDAR