BEGIN:VCALENDAR
VERSION:2.0
PRODID:-//Millvale Sportmens Club - ECPv6.15.16//NONSGML v1.0//EN
CALSCALE:GREGORIAN
METHOD:PUBLISH
X-WR-CALNAME:Millvale Sportmens Club
X-ORIGINAL-URL:https://millvalesportsmens.com
X-WR-CALDESC:Events for Millvale Sportmens Club
REFRESH-INTERVAL;VALUE=DURATION:PT1H
X-Robots-Tag:noindex
X-PUBLISHED-TTL:PT1H
BEGIN:VTIMEZONE
TZID:America/New_York
BEGIN:DAYLIGHT
TZOFFSETFROM:-0500
TZOFFSETTO:-0400
TZNAME:EDT
DTSTART:20250309T070000
END:DAYLIGHT
BEGIN:STANDARD
TZOFFSETFROM:-0400
TZOFFSETTO:-0500
TZNAME:EST
DTSTART:20251102T060000
END:STANDARD
BEGIN:DAYLIGHT
TZOFFSETFROM:-0500
TZOFFSETTO:-0400
TZNAME:EDT
DTSTART:20260308T070000
END:DAYLIGHT
BEGIN:STANDARD
TZOFFSETFROM:-0400
TZOFFSETTO:-0500
TZNAME:EST
DTSTART:20261101T060000
END:STANDARD
BEGIN:DAYLIGHT
TZOFFSETFROM:-0500
TZOFFSETTO:-0400
TZNAME:EDT
DTSTART:20270314T070000
END:DAYLIGHT
BEGIN:STANDARD
TZOFFSETFROM:-0400
TZOFFSETTO:-0500
TZNAME:EST
DTSTART:20271107T060000
END:STANDARD
END:VTIMEZONE
BEGIN:VEVENT
DTSTART;TZID=America/New_York:20261201T170000
DTEND;TZID=America/New_York:20261201T210000
DTSTAMP:20260422T070809
CREATED:20250224T211139Z
LAST-MODIFIED:20250313T124104Z
UID:10004307-1796144400-1796158800@millvalesportsmens.com
SUMMARY:Skeet Fields Open to Members/Guests
DESCRIPTION:
URL:https://millvalesportsmens.com/event/skeet-fields-open/2026-12-01/
LOCATION:Millvale Sportmen’s Club
CATEGORIES:Skeet Event
END:VEVENT
BEGIN:VEVENT
DTSTART;TZID=America/New_York:20261208T170000
DTEND;TZID=America/New_York:20261208T210000
DTSTAMP:20260422T070809
CREATED:20250224T211139Z
LAST-MODIFIED:20250313T124104Z
UID:10004308-1796749200-1796763600@millvalesportsmens.com
SUMMARY:Skeet Fields Open to Members/Guests
DESCRIPTION:
URL:https://millvalesportsmens.com/event/skeet-fields-open/2026-12-08/
LOCATION:Millvale Sportmen’s Club
CATEGORIES:Skeet Event
END:VEVENT
BEGIN:VEVENT
DTSTART;TZID=America/New_York:20261215T170000
DTEND;TZID=America/New_York:20261215T210000
DTSTAMP:20260422T070809
CREATED:20250224T211139Z
LAST-MODIFIED:20250313T124104Z
UID:10004309-1797354000-1797368400@millvalesportsmens.com
SUMMARY:Skeet Fields Open to Members/Guests
DESCRIPTION:
URL:https://millvalesportsmens.com/event/skeet-fields-open/2026-12-15/
LOCATION:Millvale Sportmen’s Club
CATEGORIES:Skeet Event
END:VEVENT
BEGIN:VEVENT
DTSTART;TZID=America/New_York:20261222T170000
DTEND;TZID=America/New_York:20261222T210000
DTSTAMP:20260422T070809
CREATED:20250224T211139Z
LAST-MODIFIED:20250313T124104Z
UID:10004310-1797958800-1797973200@millvalesportsmens.com
SUMMARY:Skeet Fields Open to Members/Guests
DESCRIPTION:
URL:https://millvalesportsmens.com/event/skeet-fields-open/2026-12-22/
LOCATION:Millvale Sportmen’s Club
CATEGORIES:Skeet Event
END:VEVENT
BEGIN:VEVENT
DTSTART;TZID=America/New_York:20261229T170000
DTEND;TZID=America/New_York:20261229T210000
DTSTAMP:20260422T070809
CREATED:20250224T211139Z
LAST-MODIFIED:20250313T124104Z
UID:10004311-1798563600-1798578000@millvalesportsmens.com
SUMMARY:Skeet Fields Open to Members/Guests
DESCRIPTION:
URL:https://millvalesportsmens.com/event/skeet-fields-open/2026-12-29/
LOCATION:Millvale Sportmen’s Club
CATEGORIES:Skeet Event
END:VEVENT
END:VCALENDAR