BEGIN:VCALENDAR
VERSION:2.0
PRODID:-//Millvale Sportmens Club - ECPv6.15.16//NONSGML v1.0//EN
CALSCALE:GREGORIAN
METHOD:PUBLISH
X-ORIGINAL-URL:https://millvalesportsmens.com
X-WR-CALDESC:Events for Millvale Sportmens Club
REFRESH-INTERVAL;VALUE=DURATION:PT1H
X-Robots-Tag:noindex
X-PUBLISHED-TTL:PT1H
BEGIN:VTIMEZONE
TZID:America/New_York
BEGIN:DAYLIGHT
TZOFFSETFROM:-0500
TZOFFSETTO:-0400
TZNAME:EDT
DTSTART:20250309T070000
END:DAYLIGHT
BEGIN:STANDARD
TZOFFSETFROM:-0400
TZOFFSETTO:-0500
TZNAME:EST
DTSTART:20251102T060000
END:STANDARD
BEGIN:DAYLIGHT
TZOFFSETFROM:-0500
TZOFFSETTO:-0400
TZNAME:EDT
DTSTART:20260308T070000
END:DAYLIGHT
BEGIN:STANDARD
TZOFFSETFROM:-0400
TZOFFSETTO:-0500
TZNAME:EST
DTSTART:20261101T060000
END:STANDARD
BEGIN:DAYLIGHT
TZOFFSETFROM:-0500
TZOFFSETTO:-0400
TZNAME:EDT
DTSTART:20270314T070000
END:DAYLIGHT
BEGIN:STANDARD
TZOFFSETFROM:-0400
TZOFFSETTO:-0500
TZNAME:EST
DTSTART:20271107T060000
END:STANDARD
END:VTIMEZONE
BEGIN:VEVENT
DTSTART;TZID=America/New_York:20260602T170000
DTEND;TZID=America/New_York:20260602T210000
DTSTAMP:20260421T223905
CREATED:20250224T211139Z
LAST-MODIFIED:20250313T124104Z
UID:10004281-1780419600-1780434000@millvalesportsmens.com
SUMMARY:Skeet Fields Open to Members/Guests
DESCRIPTION:
URL:https://millvalesportsmens.com/event/skeet-fields-open/2026-06-02/
LOCATION:Millvale Sportmen’s Club
CATEGORIES:Skeet Event
END:VEVENT
BEGIN:VEVENT
DTSTART;TZID=America/New_York:20260609T170000
DTEND;TZID=America/New_York:20260609T210000
DTSTAMP:20260421T223905
CREATED:20250224T211139Z
LAST-MODIFIED:20250313T124104Z
UID:10004282-1781024400-1781038800@millvalesportsmens.com
SUMMARY:Skeet Fields Open to Members/Guests
DESCRIPTION:
URL:https://millvalesportsmens.com/event/skeet-fields-open/2026-06-09/
LOCATION:Millvale Sportmen’s Club
CATEGORIES:Skeet Event
END:VEVENT
BEGIN:VEVENT
DTSTART;TZID=America/New_York:20260616T170000
DTEND;TZID=America/New_York:20260616T210000
DTSTAMP:20260421T223905
CREATED:20250224T211139Z
LAST-MODIFIED:20250313T124104Z
UID:10004283-1781629200-1781643600@millvalesportsmens.com
SUMMARY:Skeet Fields Open to Members/Guests
DESCRIPTION:
URL:https://millvalesportsmens.com/event/skeet-fields-open/2026-06-16/
LOCATION:Millvale Sportmen’s Club
CATEGORIES:Skeet Event
END:VEVENT
BEGIN:VEVENT
DTSTART;TZID=America/New_York:20260623T170000
DTEND;TZID=America/New_York:20260623T210000
DTSTAMP:20260421T223905
CREATED:20250224T211139Z
LAST-MODIFIED:20250313T124104Z
UID:10004284-1782234000-1782248400@millvalesportsmens.com
SUMMARY:Skeet Fields Open to Members/Guests
DESCRIPTION:
URL:https://millvalesportsmens.com/event/skeet-fields-open/2026-06-23/
LOCATION:Millvale Sportmen’s Club
CATEGORIES:Skeet Event
END:VEVENT
BEGIN:VEVENT
DTSTART;TZID=America/New_York:20260630T170000
DTEND;TZID=America/New_York:20260630T210000
DTSTAMP:20260421T223905
CREATED:20250224T211139Z
LAST-MODIFIED:20250313T124104Z
UID:10004285-1782838800-1782853200@millvalesportsmens.com
SUMMARY:Skeet Fields Open to Members/Guests
DESCRIPTION:
URL:https://millvalesportsmens.com/event/skeet-fields-open/2026-06-30/
LOCATION:Millvale Sportmen’s Club
CATEGORIES:Skeet Event
END:VEVENT
END:VCALENDAR