BEGIN:VCALENDAR
VERSION:2.0
PRODID:-//Millvale Sportmens Club - ECPv6.15.16//NONSGML v1.0//EN
CALSCALE:GREGORIAN
METHOD:PUBLISH
X-ORIGINAL-URL:https://millvalesportsmens.com
X-WR-CALDESC:Events for Millvale Sportmens Club
REFRESH-INTERVAL;VALUE=DURATION:PT1H
X-Robots-Tag:noindex
X-PUBLISHED-TTL:PT1H
BEGIN:VTIMEZONE
TZID:America/New_York
BEGIN:DAYLIGHT
TZOFFSETFROM:-0500
TZOFFSETTO:-0400
TZNAME:EDT
DTSTART:20240310T070000
END:DAYLIGHT
BEGIN:STANDARD
TZOFFSETFROM:-0400
TZOFFSETTO:-0500
TZNAME:EST
DTSTART:20241103T060000
END:STANDARD
BEGIN:DAYLIGHT
TZOFFSETFROM:-0500
TZOFFSETTO:-0400
TZNAME:EDT
DTSTART:20250309T070000
END:DAYLIGHT
BEGIN:STANDARD
TZOFFSETFROM:-0400
TZOFFSETTO:-0500
TZNAME:EST
DTSTART:20251102T060000
END:STANDARD
BEGIN:DAYLIGHT
TZOFFSETFROM:-0500
TZOFFSETTO:-0400
TZNAME:EDT
DTSTART:20260308T070000
END:DAYLIGHT
BEGIN:STANDARD
TZOFFSETFROM:-0400
TZOFFSETTO:-0500
TZNAME:EST
DTSTART:20261101T060000
END:STANDARD
BEGIN:DAYLIGHT
TZOFFSETFROM:-0500
TZOFFSETTO:-0400
TZNAME:EDT
DTSTART:20270314T070000
END:DAYLIGHT
BEGIN:STANDARD
TZOFFSETFROM:-0400
TZOFFSETTO:-0500
TZNAME:EST
DTSTART:20271107T060000
END:STANDARD
END:VTIMEZONE
BEGIN:VEVENT
DTSTART;VALUE=DATE:20251011
DTEND;VALUE=DATE:20251012
DTSTAMP:20260422T185212
CREATED:20251010T131040Z
LAST-MODIFIED:20251010T131040Z
UID:10004589-1760140800-1760227199@millvalesportsmens.com
SUMMARY:CLOSURE: Skeet\, Trap and 5 Stand Closed THIS SATURDAY
DESCRIPTION:Lead reclamation work being done over the hillside.
URL:https://millvalesportsmens.com/event/closure-skeet-trap-and-5-stand-closed-this-saturday/
LOCATION:Millvale Sportmen’s Club
CATEGORIES:Featured Homepage
END:VEVENT
BEGIN:VEVENT
DTSTART;VALUE=DATE:20251018
DTEND;VALUE=DATE:20251019
DTSTAMP:20260422T185212
CREATED:20251017T162212Z
LAST-MODIFIED:20251017T162212Z
UID:10004592-1760745600-1760831999@millvalesportsmens.com
SUMMARY:Skeet\, Trap and 5 Stand Fields CLOSED SATURDAY
DESCRIPTION:Skeet\, trap and 5 stand fields are closed on Saturday due to lead reclamation work over the hillside.
URL:https://millvalesportsmens.com/event/skeet-trap-and-5-stand-fields-closed-saturday/2025-10-18/
LOCATION:Millvale Sportmen’s Club
CATEGORIES:Featured Homepage,Skeet Event,Trap Event
ATTACH;FMTTYPE=image/jpeg:https://millvalesportsmens.com/wp-content/uploads/2015/07/trap-range.jpg
END:VEVENT
BEGIN:VEVENT
DTSTART;TZID=America/New_York:20251024T090000
DTEND;TZID=America/New_York:20251024T130000
DTSTAMP:20260422T185212
CREATED:20251022T162312Z
LAST-MODIFIED:20251022T162405Z
UID:10004594-1761296400-1761310800@millvalesportsmens.com
SUMMARY:PISTOL RANGE CLOSED 9AM-1PM
DESCRIPTION:Pistol range is closed on Fridays 9 am to 1 pm for the foreseeable future for range repairs
URL:https://millvalesportsmens.com/event/pistol-range-closed-for-range-repairs/2025-10-24/
LOCATION:Millvale Sportmen’s Club
CATEGORIES:Featured Homepage
ATTACH;FMTTYPE=image/jpeg:https://millvalesportsmens.com/wp-content/uploads/2015/07/pistol-range.jpg
END:VEVENT
BEGIN:VEVENT
DTSTART;VALUE=DATE:20251025
DTEND;VALUE=DATE:20251026
DTSTAMP:20260422T185212
CREATED:20251017T162212Z
LAST-MODIFIED:20251017T162212Z
UID:10004593-1761379200-1761411600@millvalesportsmens.com
SUMMARY:Skeet\, Trap and 5 Stand Fields CLOSED SATURDAY
DESCRIPTION:Skeet\, trap and 5 stand fields are closed on Saturday due to lead reclamation work over the hillside.
URL:https://millvalesportsmens.com/event/skeet-trap-and-5-stand-fields-closed-saturday/2025-10-25/
LOCATION:Millvale Sportmen’s Club
CATEGORIES:Featured Homepage,Skeet Event,Trap Event
ATTACH;FMTTYPE=image/jpeg:https://millvalesportsmens.com/wp-content/uploads/2015/07/trap-range.jpg
END:VEVENT
BEGIN:VEVENT
DTSTART;TZID=America/New_York:20251027T190000
DTEND;TZID=America/New_York:20251027T210000
DTSTAMP:20260422T185212
CREATED:20250606T212451Z
LAST-MODIFIED:20250905T134204Z
UID:10004491-1761591600-1761598800@millvalesportsmens.com
SUMMARY:Homesteading & Self Reliance
DESCRIPTION:Are you looking for like minded people that are interested in: Community\, Homesteading\, Food Prep\, Self-Reliance and other skills? \n*Do you want to learn cool guy stuff\, become a renaissance man? \n*Do you want to learn how to purify water\, start fires\, long term food storage\, and other life skills? \nHosted by MSCI Senior Member Drew Spencer. \nMeetings will be held on the last Monday of the month in the clubhouse at Millvale Sportsmen’s Club. \nIf interested please email spencerd150@gmail.com \nThank you\,
URL:https://millvalesportsmens.com/event/homesteading-self-reliance-6/
LOCATION:Millvale Sportmen’s Club
CATEGORIES:Featured Homepage
END:VEVENT
BEGIN:VEVENT
DTSTART;TZID=America/New_York:20251031T090000
DTEND;TZID=America/New_York:20251031T130000
DTSTAMP:20260422T185212
CREATED:20251022T162312Z
LAST-MODIFIED:20251022T162405Z
UID:10004595-1761901200-1761915600@millvalesportsmens.com
SUMMARY:PISTOL RANGE CLOSED 9AM-1PM
DESCRIPTION:Pistol range is closed on Fridays 9 am to 1 pm for the foreseeable future for range repairs
URL:https://millvalesportsmens.com/event/pistol-range-closed-for-range-repairs/2025-10-31/
LOCATION:Millvale Sportmen’s Club
CATEGORIES:Featured Homepage
ATTACH;FMTTYPE=image/jpeg:https://millvalesportsmens.com/wp-content/uploads/2015/07/pistol-range.jpg
END:VEVENT
BEGIN:VEVENT
DTSTART;TZID=America/New_York:20251101T090000
DTEND;TZID=America/New_York:20251101T120000
DTSTAMP:20260422T185212
CREATED:20251022T162645Z
LAST-MODIFIED:20251022T162645Z
UID:10004598-1761987600-1761998400@millvalesportsmens.com
SUMMARY:New Member Orientation Meeting
DESCRIPTION:Meeting will be held in the main building\, starting at 9am.
URL:https://millvalesportsmens.com/event/new-member-orientation-meeting/
LOCATION:Millvale Sportmen’s Club
CATEGORIES:Featured Homepage
ATTACH;FMTTYPE=image/jpeg:https://millvalesportsmens.com/wp-content/uploads/2015/07/clubhouse.jpg
END:VEVENT
BEGIN:VEVENT
DTSTART;TZID=America/New_York:20251107T090000
DTEND;TZID=America/New_York:20251107T130000
DTSTAMP:20260422T185212
CREATED:20251022T162312Z
LAST-MODIFIED:20251022T162405Z
UID:10004596-1762506000-1762520400@millvalesportsmens.com
SUMMARY:PISTOL RANGE CLOSED 9AM-1PM
DESCRIPTION:Pistol range is closed on Fridays 9 am to 1 pm for the foreseeable future for range repairs
URL:https://millvalesportsmens.com/event/pistol-range-closed-for-range-repairs/2025-11-07/
LOCATION:Millvale Sportmen’s Club
CATEGORIES:Featured Homepage
ATTACH;FMTTYPE=image/jpeg:https://millvalesportsmens.com/wp-content/uploads/2015/07/pistol-range.jpg
END:VEVENT
BEGIN:VEVENT
DTSTART;TZID=America/New_York:20251114T090000
DTEND;TZID=America/New_York:20251114T130000
DTSTAMP:20260422T185212
CREATED:20251022T162312Z
LAST-MODIFIED:20251022T162405Z
UID:10004597-1763110800-1763125200@millvalesportsmens.com
SUMMARY:PISTOL RANGE CLOSED 9AM-1PM
DESCRIPTION:Pistol range is closed on Fridays 9 am to 1 pm for the foreseeable future for range repairs
URL:https://millvalesportsmens.com/event/pistol-range-closed-for-range-repairs/2025-11-14/
LOCATION:Millvale Sportmen’s Club
CATEGORIES:Featured Homepage
ATTACH;FMTTYPE=image/jpeg:https://millvalesportsmens.com/wp-content/uploads/2015/07/pistol-range.jpg
END:VEVENT
BEGIN:VEVENT
DTSTART;TZID=America/New_York:20251121T090000
DTEND;TZID=America/New_York:20251121T130000
DTSTAMP:20260422T185212
CREATED:20251120T184231Z
LAST-MODIFIED:20251120T184231Z
UID:10004601-1763715600-1763730000@millvalesportsmens.com
SUMMARY:PISTOL Range Closed 9am - 1pm
DESCRIPTION:PISTOL Range Closed 9am – 1pm
URL:https://millvalesportsmens.com/event/pistol-range-closed-9am-1pm/2025-11-21/
LOCATION:Millvale Sportmen’s Club
CATEGORIES:Event,Featured Homepage
ATTACH;FMTTYPE=image/jpeg:https://millvalesportsmens.com/wp-content/uploads/2015/07/pistol-range.jpg
END:VEVENT
BEGIN:VEVENT
DTSTART;VALUE=DATE:20251122
DTEND;VALUE=DATE:20251123
DTSTAMP:20260422T185212
CREATED:20251119T002331Z
LAST-MODIFIED:20251119T002423Z
UID:10004599-1763769600-1763855999@millvalesportsmens.com
SUMMARY:Skeet\, trap and 5 stand fields are closed
DESCRIPTION:Skeet\, trap and 5 stand fields are closed today.
URL:https://millvalesportsmens.com/event/skeet-trap-and-5-stand-fields-are-closed-today/2025-11-22/
LOCATION:Millvale Sportmen’s Club
CATEGORIES:Featured Homepage,Skeet Event,Trap Event
END:VEVENT
BEGIN:VEVENT
DTSTART;TZID=America/New_York:20251128T090000
DTEND;TZID=America/New_York:20251128T130000
DTSTAMP:20260422T185212
CREATED:20251120T184231Z
LAST-MODIFIED:20251120T184231Z
UID:10004602-1764320400-1764334800@millvalesportsmens.com
SUMMARY:PISTOL Range Closed 9am - 1pm
DESCRIPTION:PISTOL Range Closed 9am – 1pm
URL:https://millvalesportsmens.com/event/pistol-range-closed-9am-1pm/2025-11-28/
LOCATION:Millvale Sportmen’s Club
CATEGORIES:Event,Featured Homepage
ATTACH;FMTTYPE=image/jpeg:https://millvalesportsmens.com/wp-content/uploads/2015/07/pistol-range.jpg
END:VEVENT
BEGIN:VEVENT
DTSTART;VALUE=DATE:20251129
DTEND;VALUE=DATE:20251130
DTSTAMP:20260422T185212
CREATED:20251119T002331Z
LAST-MODIFIED:20251119T002423Z
UID:10004600-1764403200-1764435600@millvalesportsmens.com
SUMMARY:Skeet\, trap and 5 stand fields are closed
DESCRIPTION:Skeet\, trap and 5 stand fields are closed today.
URL:https://millvalesportsmens.com/event/skeet-trap-and-5-stand-fields-are-closed-today/2025-11-29/
LOCATION:Millvale Sportmen’s Club
CATEGORIES:Featured Homepage,Skeet Event,Trap Event
END:VEVENT
BEGIN:VEVENT
DTSTART;TZID=America/New_York:20251205T090000
DTEND;TZID=America/New_York:20251205T130000
DTSTAMP:20260422T185212
CREATED:20251120T184231Z
LAST-MODIFIED:20251120T184231Z
UID:10004603-1764925200-1764939600@millvalesportsmens.com
SUMMARY:PISTOL Range Closed 9am - 1pm
DESCRIPTION:PISTOL Range Closed 9am – 1pm
URL:https://millvalesportsmens.com/event/pistol-range-closed-9am-1pm/2025-12-05/
LOCATION:Millvale Sportmen’s Club
CATEGORIES:Event,Featured Homepage
ATTACH;FMTTYPE=image/jpeg:https://millvalesportsmens.com/wp-content/uploads/2015/07/pistol-range.jpg
END:VEVENT
BEGIN:VEVENT
DTSTART;TZID=America/New_York:20251212T090000
DTEND;TZID=America/New_York:20251212T130000
DTSTAMP:20260422T185212
CREATED:20251120T184231Z
LAST-MODIFIED:20251120T184231Z
UID:10004604-1765530000-1765544400@millvalesportsmens.com
SUMMARY:PISTOL Range Closed 9am - 1pm
DESCRIPTION:PISTOL Range Closed 9am – 1pm
URL:https://millvalesportsmens.com/event/pistol-range-closed-9am-1pm/2025-12-12/
LOCATION:Millvale Sportmen’s Club
CATEGORIES:Event,Featured Homepage
ATTACH;FMTTYPE=image/jpeg:https://millvalesportsmens.com/wp-content/uploads/2015/07/pistol-range.jpg
END:VEVENT
BEGIN:VEVENT
DTSTART;TZID=America/New_York:20251218T200000
DTEND;TZID=America/New_York:20251218T210000
DTSTAMP:20260422T185212
CREATED:20251216T144634Z
LAST-MODIFIED:20251216T145504Z
UID:10003800-1766088000-1766091600@millvalesportsmens.com
SUMMARY:Monthly Membership Meeting
DESCRIPTION:Monthly Membership Meetings are the last Thursday of every Month from 8-9 p.m.
URL:https://millvalesportsmens.com/event/monthly-membership-meeting-2/
LOCATION:Millvale Sportmen’s Club
CATEGORIES:Event,Featured Homepage
END:VEVENT
BEGIN:VEVENT
DTSTART;TZID=America/New_York:20251219T090000
DTEND;TZID=America/New_York:20251219T130000
DTSTAMP:20260422T185212
CREATED:20251120T184231Z
LAST-MODIFIED:20251120T184231Z
UID:10004605-1766134800-1766149200@millvalesportsmens.com
SUMMARY:PISTOL Range Closed 9am - 1pm
DESCRIPTION:PISTOL Range Closed 9am – 1pm
URL:https://millvalesportsmens.com/event/pistol-range-closed-9am-1pm/2025-12-19/
LOCATION:Millvale Sportmen’s Club
CATEGORIES:Event,Featured Homepage
ATTACH;FMTTYPE=image/jpeg:https://millvalesportsmens.com/wp-content/uploads/2015/07/pistol-range.jpg
END:VEVENT
BEGIN:VEVENT
DTSTART;TZID=America/New_York:20251227T090000
DTEND;TZID=America/New_York:20251227T130000
DTSTAMP:20260422T185212
CREATED:20251201T140843Z
LAST-MODIFIED:20251201T140843Z
UID:10004606-1766826000-1766840400@millvalesportsmens.com
SUMMARY:Winter Rifle League (Crock Pot League)
DESCRIPTION:Signups Begin at 9:00 am\nMatch Start Time: 10:00 am \n\nFees: 5$\nCourse of Fire: 50 Shot Reduced NMC on Shotmarker Targets\nNote:\n\nThese will be non-sanctioned matches\nThere will be a wood fire for warmth along with a Kurig Coffee maker\nAfter the match a lunch will be served – Hungarian Goulash\n\n\n\nQuestions contact Nathan Evagash at evagash77@gmail.com
URL:https://millvalesportsmens.com/event/winter-rifle-league-crock-pot-league/
LOCATION:Millvale Sportmen’s Club
CATEGORIES:Featured Homepage,Rifle Range
ATTACH;FMTTYPE=image/jpeg:https://millvalesportsmens.com/wp-content/uploads/2015/07/rifle-range-1.jpg
END:VEVENT
BEGIN:VEVENT
DTSTART;TZID=America/New_York:20260129T200000
DTEND;TZID=America/New_York:20260129T210000
DTSTAMP:20260422T185212
CREATED:20251216T144910Z
LAST-MODIFIED:20251216T145029Z
UID:10004669-1769716800-1769720400@millvalesportsmens.com
SUMMARY:Monthly Membership Meeting
DESCRIPTION:Monthly Membership Meetings are the last Thursday of every Month from 8-9 p.m.
URL:https://millvalesportsmens.com/event/monthly-membership-meeting-3/2026-01-29/
LOCATION:Millvale Sportmen’s Club
CATEGORIES:Event,Featured Homepage
END:VEVENT
BEGIN:VEVENT
DTSTART;TZID=America/New_York:20260207T090000
DTEND;TZID=America/New_York:20260207T130000
DTSTAMP:20260422T185212
CREATED:20251201T141002Z
LAST-MODIFIED:20260127T150450Z
UID:10004607-1770454800-1770469200@millvalesportsmens.com
SUMMARY:Winter Rifle League (Crock Pot League)
DESCRIPTION:Signups Begin at 9:00 am\nMatch Start Time: 10:00 am \n\nFees: 5$\nCourse of Fire: 50 Shot Reduced NMC on Shotmarker Targets\nNote:\n\nThese will be non-sanctioned matches\nThere will be a wood fire for warmth along with a Kurig Coffee maker\nAfter the match a lunch will be served – Mississippi Roast\n\n\n\nQuestions contact Nathan Evagash at evagash77@gmail.com
URL:https://millvalesportsmens.com/event/winter-rifle-league-crock-pot-league-2/
LOCATION:Millvale Sportmen’s Club
CATEGORIES:Featured Homepage,Rifle Range
ATTACH;FMTTYPE=image/jpeg:https://millvalesportsmens.com/wp-content/uploads/2015/07/rifle-range-1.jpg
END:VEVENT
BEGIN:VEVENT
DTSTART;TZID=America/New_York:20260215T130000
DTEND;TZID=America/New_York:20260215T143000
DTSTAMP:20260422T185212
CREATED:20260210T215550Z
LAST-MODIFIED:20260210T215550Z
UID:10004730-1771160400-1771165800@millvalesportsmens.com
SUMMARY:Lake Planning Meeting for Spring Cleanup Ideas
DESCRIPTION:Once again I’m looking for help around the lake this year. I’m holding a meeting at the clubhouse on Sunday\, February 15th at 1:00 pm. We will discuss the game plan for the spring cleanup and what can be achieved through the spring and summer. \nThere will be some projects with wood\, paint and and stone. Mostly just weed whacking. If you’re interested we sure could use your help and expertise. Any questions you can reply here or through my club email: specialprojects@millvalesportsmens.com
URL:https://millvalesportsmens.com/event/lake-planning-meeting-for-spring-cleanup-ideas/
LOCATION:Millvale Sportmen’s Club
CATEGORIES:Event,Featured Homepage
ATTACH;FMTTYPE=image/jpeg:https://millvalesportsmens.com/wp-content/uploads/2015/07/lake-2.jpg
END:VEVENT
BEGIN:VEVENT
DTSTART;TZID=America/New_York:20260221T090000
DTEND;TZID=America/New_York:20260221T130000
DTSTAMP:20260422T185212
CREATED:20251201T141032Z
LAST-MODIFIED:20251201T141032Z
UID:10004608-1771664400-1771678800@millvalesportsmens.com
SUMMARY:Winter Rifle League (Crock Pot League)
DESCRIPTION:Signups Begin at 9:00 am\nMatch Start Time: 10:00 am \n\nFees: 5$\nCourse of Fire: 50 Shot Reduced NMC on Shotmarker Targets\nNote:\n\nThese will be non-sanctioned matches\nThere will be a wood fire for warmth along with a Kurig Coffee maker\nAfter the match a lunch will be served – Hot and Sour Soup\n\n\n\nQuestions contact Nathan Evagash at evagash77@gmail.com
URL:https://millvalesportsmens.com/event/winter-rifle-league-crock-pot-league-3/
LOCATION:Millvale Sportmen’s Club
CATEGORIES:Featured Homepage,Rifle Range
ATTACH;FMTTYPE=image/jpeg:https://millvalesportsmens.com/wp-content/uploads/2015/07/rifle-range-1.jpg
END:VEVENT
BEGIN:VEVENT
DTSTART;TZID=America/New_York:20260226T200000
DTEND;TZID=America/New_York:20260226T210000
DTSTAMP:20260422T185212
CREATED:20251216T144910Z
LAST-MODIFIED:20251216T145029Z
UID:10004670-1772136000-1772139600@millvalesportsmens.com
SUMMARY:Monthly Membership Meeting
DESCRIPTION:Monthly Membership Meetings are the last Thursday of every Month from 8-9 p.m.
URL:https://millvalesportsmens.com/event/monthly-membership-meeting-3/2026-02-26/
LOCATION:Millvale Sportmen’s Club
CATEGORIES:Event,Featured Homepage
END:VEVENT
BEGIN:VEVENT
DTSTART;TZID=America/New_York:20260307T090000
DTEND;TZID=America/New_York:20260307T110000
DTSTAMP:20260422T185212
CREATED:20260210T215829Z
LAST-MODIFIED:20260210T215829Z
UID:10004731-1772874000-1772881200@millvalesportsmens.com
SUMMARY:First Trout Stocking Event - Volunteers Welcome
DESCRIPTION:The clubs first trout stocking of the 2026 fishing season will be on Saturday morning\, March 7th. Truck will arrive around 9:00 am. Volunteers are welcome. \nPlease contact me at my email address if you are available: specialprojects@millvalesportsmens.com
URL:https://millvalesportsmens.com/event/first-trout-stocking-event-volunteers-welcome/
LOCATION:Millvale Sportmen’s Club
CATEGORIES:Event,Featured Homepage
ATTACH;FMTTYPE=image/jpeg:https://millvalesportsmens.com/wp-content/uploads/2019/04/55635116_10107372382408609_574531989864972288_n.jpg
END:VEVENT
BEGIN:VEVENT
DTSTART;TZID=America/New_York:20260307T090000
DTEND;TZID=America/New_York:20260307T130000
DTSTAMP:20260422T185212
CREATED:20251201T141100Z
LAST-MODIFIED:20251201T141100Z
UID:10004609-1772874000-1772888400@millvalesportsmens.com
SUMMARY:Winter Rifle League (Crock Pot League)
DESCRIPTION:Signups Begin at 9:00 am\nMatch Start Time: 10:00 am \n\nFees: 5$\nCourse of Fire: 50 Shot Reduced NMC on Shotmarker Targets\nNote:\n\nThese will be non-sanctioned matches\nThere will be a wood fire for warmth along with a Kurig Coffee maker\nAfter the match a lunch will be served – Potato Soup\n\n\n\nQuestions contact Nathan Evagash at evagash77@gmail.com
URL:https://millvalesportsmens.com/event/winter-rifle-league-crock-pot-league-4/
LOCATION:Millvale Sportmen’s Club
CATEGORIES:Featured Homepage,Rifle Range
ATTACH;FMTTYPE=image/jpeg:https://millvalesportsmens.com/wp-content/uploads/2015/07/rifle-range-1.jpg
END:VEVENT
BEGIN:VEVENT
DTSTART;TZID=America/New_York:20260311T170000
DTEND;TZID=America/New_York:20260311T210000
DTSTAMP:20260422T185212
CREATED:20260301T220532Z
LAST-MODIFIED:20260301T220532Z
UID:10004788-1773248400-1773262800@millvalesportsmens.com
SUMMARY:Summer Trap League
DESCRIPTION:Sign ups start at 5pm with shooting starting at 530 pm.\nWe shoot 25- 16yard targets and 25-22 yard targets.\nLeague is 25 weeks long with a banquet at the end of league.\nPrice is $17.00 per 50 targets which pays for targets and league banquet prizes.\nTo be eligible for banquet at end of league you must have 22 shoots for league prizes\, and 19 shoots to be eligible to come to banquet on September 19th.\n\nQuestions\, contact Dennis Rask at raskf3@gmail.com \nHope to see you on the trap field.
URL:https://millvalesportsmens.com/event/summer-trap-league-3/2026-03-11/
LOCATION:Millvale Sportmen’s Club
CATEGORIES:Event,Featured Homepage,Trap Event
ATTACH;FMTTYPE=image/jpeg:https://millvalesportsmens.com/wp-content/uploads/2015/07/trap-field.jpg
END:VEVENT
BEGIN:VEVENT
DTSTART;TZID=America/New_York:20260313T090000
DTEND;TZID=America/New_York:20260313T130000
DTSTAMP:20260422T185212
CREATED:20260312T181636Z
LAST-MODIFIED:20260324T145627Z
UID:10004876-1773392400-1773406800@millvalesportsmens.com
SUMMARY:Pistol Range CLOSED 9am - 1pm
DESCRIPTION:Range Repairs
URL:https://millvalesportsmens.com/event/pistol-range-closed-9am-1pm-2/2026-03-13/
LOCATION:Millvale Sportmen’s Club
CATEGORIES:Event,Featured Homepage
END:VEVENT
BEGIN:VEVENT
DTSTART;TZID=America/New_York:20260313T160000
DTEND;TZID=America/New_York:20260313T220000
DTSTAMP:20260422T185212
CREATED:20260312T181816Z
LAST-MODIFIED:20260312T181907Z
UID:10004880-1773417600-1773439200@millvalesportsmens.com
SUMMARY:ALL RANGES CLOSED @ 4PM - for fish fry
DESCRIPTION:Due to Fish Fry
URL:https://millvalesportsmens.com/event/all-ranges-closed-4pm-close/
LOCATION:Millvale Sportmen’s Club
CATEGORIES:Event,Featured Homepage
END:VEVENT
BEGIN:VEVENT
DTSTART;TZID=America/New_York:20260314T080000
DTEND;TZID=America/New_York:20260314T100000
DTSTAMP:20260422T185212
CREATED:20260309T132622Z
LAST-MODIFIED:20260309T132847Z
UID:10004868-1773475200-1773482400@millvalesportsmens.com
SUMMARY:100-Yard Offhand Rifle Match
DESCRIPTION:All safe centerfire or rimfire rifles in any caliber are permitted.\nAny sighting system may be used\, including iron sights\, red dots\, or telescopic sights. \nSchedule\n\nSign-ups: 8:00 AM\nShooting begins: 9:00 AM\n\nMatch Fee\n$5 per shooter (unless a specialty shoot is scheduled) \nCourse of Fire\n\n40 rounds\nDistance: 100 yards\nTarget: Bullseye\nTime limit: 40 minutes\nShooting position: Offhand (standing)\n\nQuestions:\nContact Bill at secretary@millvalesportsmens.com
URL:https://millvalesportsmens.com/event/100-yard-offhand-rifle-match/2026-03-14/
LOCATION:Millvale Sportmen’s Club
CATEGORIES:Event,Featured Homepage,Rifle Range
ATTACH;FMTTYPE=image/jpeg:https://millvalesportsmens.com/wp-content/uploads/2015/07/rifle-range.jpg
END:VEVENT
BEGIN:VEVENT
DTSTART;TZID=America/New_York:20260318T170000
DTEND;TZID=America/New_York:20260318T210000
DTSTAMP:20260422T185212
CREATED:20260301T220532Z
LAST-MODIFIED:20260301T220532Z
UID:10004789-1773853200-1773867600@millvalesportsmens.com
SUMMARY:Summer Trap League
DESCRIPTION:Sign ups start at 5pm with shooting starting at 530 pm.\nWe shoot 25- 16yard targets and 25-22 yard targets.\nLeague is 25 weeks long with a banquet at the end of league.\nPrice is $17.00 per 50 targets which pays for targets and league banquet prizes.\nTo be eligible for banquet at end of league you must have 22 shoots for league prizes\, and 19 shoots to be eligible to come to banquet on September 19th.\n\nQuestions\, contact Dennis Rask at raskf3@gmail.com \nHope to see you on the trap field.
URL:https://millvalesportsmens.com/event/summer-trap-league-3/2026-03-18/
LOCATION:Millvale Sportmen’s Club
CATEGORIES:Event,Featured Homepage,Trap Event
ATTACH;FMTTYPE=image/jpeg:https://millvalesportsmens.com/wp-content/uploads/2015/07/trap-field.jpg
END:VEVENT
END:VCALENDAR