BEGIN:VCALENDAR
VERSION:2.0
PRODID:-//Millvale Sportmens Club - ECPv6.15.16//NONSGML v1.0//EN
CALSCALE:GREGORIAN
METHOD:PUBLISH
X-WR-CALNAME:Millvale Sportmens Club
X-ORIGINAL-URL:https://millvalesportsmens.com
X-WR-CALDESC:Events for Millvale Sportmens Club
REFRESH-INTERVAL;VALUE=DURATION:PT1H
X-Robots-Tag:noindex
X-PUBLISHED-TTL:PT1H
BEGIN:VTIMEZONE
TZID:America/New_York
BEGIN:DAYLIGHT
TZOFFSETFROM:-0500
TZOFFSETTO:-0400
TZNAME:EDT
DTSTART:20240310T070000
END:DAYLIGHT
BEGIN:STANDARD
TZOFFSETFROM:-0400
TZOFFSETTO:-0500
TZNAME:EST
DTSTART:20241103T060000
END:STANDARD
BEGIN:DAYLIGHT
TZOFFSETFROM:-0500
TZOFFSETTO:-0400
TZNAME:EDT
DTSTART:20250309T070000
END:DAYLIGHT
BEGIN:STANDARD
TZOFFSETFROM:-0400
TZOFFSETTO:-0500
TZNAME:EST
DTSTART:20251102T060000
END:STANDARD
BEGIN:DAYLIGHT
TZOFFSETFROM:-0500
TZOFFSETTO:-0400
TZNAME:EDT
DTSTART:20260308T070000
END:DAYLIGHT
BEGIN:STANDARD
TZOFFSETFROM:-0400
TZOFFSETTO:-0500
TZNAME:EST
DTSTART:20261101T060000
END:STANDARD
END:VTIMEZONE
BEGIN:VEVENT
DTSTART;TZID=America/New_York:20251031T090000
DTEND;TZID=America/New_York:20251031T130000
DTSTAMP:20260421T200219
CREATED:20251022T162312Z
LAST-MODIFIED:20251022T162405Z
UID:10004595-1761901200-1761915600@millvalesportsmens.com
SUMMARY:PISTOL RANGE CLOSED 9AM-1PM
DESCRIPTION:Pistol range is closed on Fridays 9 am to 1 pm for the foreseeable future for range repairs
URL:https://millvalesportsmens.com/event/pistol-range-closed-for-range-repairs/2025-10-31/
LOCATION:Millvale Sportmen’s Club
CATEGORIES:Featured Homepage
ATTACH;FMTTYPE=image/jpeg:https://millvalesportsmens.com/wp-content/uploads/2015/07/pistol-range.jpg
END:VEVENT
END:VCALENDAR