BEGIN:VCALENDAR
VERSION:2.0
PRODID:-//Millvale Sportmens Club - ECPv6.15.16//NONSGML v1.0//EN
CALSCALE:GREGORIAN
METHOD:PUBLISH
X-WR-CALNAME:Millvale Sportmens Club
X-ORIGINAL-URL:https://millvalesportsmens.com
X-WR-CALDESC:Events for Millvale Sportmens Club
REFRESH-INTERVAL;VALUE=DURATION:PT1H
X-Robots-Tag:noindex
X-PUBLISHED-TTL:PT1H
BEGIN:VTIMEZONE
TZID:America/New_York
BEGIN:DAYLIGHT
TZOFFSETFROM:-0500
TZOFFSETTO:-0400
TZNAME:EDT
DTSTART:20240310T070000
END:DAYLIGHT
BEGIN:STANDARD
TZOFFSETFROM:-0400
TZOFFSETTO:-0500
TZNAME:EST
DTSTART:20241103T060000
END:STANDARD
BEGIN:DAYLIGHT
TZOFFSETFROM:-0500
TZOFFSETTO:-0400
TZNAME:EDT
DTSTART:20250309T070000
END:DAYLIGHT
BEGIN:STANDARD
TZOFFSETFROM:-0400
TZOFFSETTO:-0500
TZNAME:EST
DTSTART:20251102T060000
END:STANDARD
BEGIN:DAYLIGHT
TZOFFSETFROM:-0500
TZOFFSETTO:-0400
TZNAME:EDT
DTSTART:20260308T070000
END:DAYLIGHT
BEGIN:STANDARD
TZOFFSETFROM:-0400
TZOFFSETTO:-0500
TZNAME:EST
DTSTART:20261101T060000
END:STANDARD
END:VTIMEZONE
BEGIN:VEVENT
DTSTART;TZID=America/New_York:20250927T120000
DTEND;TZID=America/New_York:20250927T180000
DTSTAMP:20260421T212339
CREATED:20250609T151035Z
LAST-MODIFIED:20250609T151235Z
UID:10004494-1758974400-1758996000@millvalesportsmens.com
SUMMARY:MSCI Fundraiser and Gun Bash
DESCRIPTION:The Club will hold a gun bash fundraiser on September 27\, 2025.\n\nDonation is $50 per ticket.\nFood supplied by Remo’s Catering and draft beer are included in the price of the ticket.\nCash bar will be available.\nYou cannot bring your own beverages to this event.\nYou do not need to be present to win.\nMust be 18 years old or older to purchase a ticket and attend this event. Advance ticket sales only.\nExample of ticket is below:\n\n \nIn addition to firearms and cash prizes\, there will be 50/50 raffles running continuously\, plus strip ticket side bets for pick of the table prizes. There will be 75 firearms for the pick of the table. A bank MAC machine will be on the premises to facilitate your purchase of all 50/50 and strip tickets. \nIn addition\, Fumo Mobile Cigar Lounge will be on site for those wanting to purchase and smoke cigars\, in the designated smoking area. \nThe Club needs your help in making this fundraiser and gun bash a success. We need members to purchase tickets. We need members to step forward and take 10 or 20 tickets or more and sell them to friends\, family and co-workers. We need to sell all tickets in order to maximize our net profit which will be used for specific projects and costs at the Club.  \nTickets are for sale at the bar on Sunday afternoons and Tuesday and Wednesday nights.\nTickets may also be purchased at Big Buck Sport Shop in Wexford\, Pa. Bulk ticket sales should be coordinated thru Bill Walls or Brandon Evans or Wayne Seiling. Our email addresses are as follows: \n\nsecretary@millvalesportsmens.com  (Bill);\ntech@millvalesportsmens.com (Brandon);\ncaretaker@millvalesportsmens.com  (Wayne).\n\nPlease help your club in this major fundraising event which promises to be a fun filled afternoon for all who attend. Thank you in advance for your cooperation and assistance.
URL:https://millvalesportsmens.com/event/msci-fundraiser-and-gun-bash/
LOCATION:Millvale Sportmen’s Club
CATEGORIES:Event,Featured Homepage
ATTACH;FMTTYPE=image/jpeg:https://millvalesportsmens.com/wp-content/uploads/2015/07/clubhouse-image.jpg
END:VEVENT
END:VCALENDAR