BEGIN:VCALENDAR
VERSION:2.0
PRODID:-//Millvale Sportmens Club - ECPv6.15.16//NONSGML v1.0//EN
CALSCALE:GREGORIAN
METHOD:PUBLISH
X-WR-CALNAME:Millvale Sportmens Club
X-ORIGINAL-URL:https://millvalesportsmens.com
X-WR-CALDESC:Events for Millvale Sportmens Club
REFRESH-INTERVAL;VALUE=DURATION:PT1H
X-Robots-Tag:noindex
X-PUBLISHED-TTL:PT1H
BEGIN:VTIMEZONE
TZID:America/New_York
BEGIN:DAYLIGHT
TZOFFSETFROM:-0500
TZOFFSETTO:-0400
TZNAME:EDT
DTSTART:20240310T070000
END:DAYLIGHT
BEGIN:STANDARD
TZOFFSETFROM:-0400
TZOFFSETTO:-0500
TZNAME:EST
DTSTART:20241103T060000
END:STANDARD
BEGIN:DAYLIGHT
TZOFFSETFROM:-0500
TZOFFSETTO:-0400
TZNAME:EDT
DTSTART:20250309T070000
END:DAYLIGHT
BEGIN:STANDARD
TZOFFSETFROM:-0400
TZOFFSETTO:-0500
TZNAME:EST
DTSTART:20251102T060000
END:STANDARD
BEGIN:DAYLIGHT
TZOFFSETFROM:-0500
TZOFFSETTO:-0400
TZNAME:EDT
DTSTART:20260308T070000
END:DAYLIGHT
BEGIN:STANDARD
TZOFFSETFROM:-0400
TZOFFSETTO:-0500
TZNAME:EST
DTSTART:20261101T060000
END:STANDARD
END:VTIMEZONE
BEGIN:VEVENT
DTSTART;TZID=America/New_York:20250604T170000
DTEND;TZID=America/New_York:20250604T210000
DTSTAMP:20260422T014632
CREATED:20260301T215824Z
LAST-MODIFIED:20260301T215824Z
UID:10004776-1749056400-1749070800@millvalesportsmens.com
SUMMARY:Summer Trap League
DESCRIPTION:Sign ups start at 5pm with shooting starting at 530 pm.\nWe shoot 25- 16yard targets and 25-22 yard targets.\nLeague is 25 weeks long with a banquet at the end of league.\nPrice is $17.00 per 50 targets which pays for targets and league banquet prizes.\nTo be eligible for banquet at end of league you must have 22 shoots for league prizes\, and 19 shoots to be eligible to come to banquet.\n\nQuestions\, contact Dennis Rask at raskf3@gmail.com \nHope to see you on the trap field.
URL:https://millvalesportsmens.com/event/summer-trap-league-2/2025-06-04/
LOCATION:Millvale Sportmen’s Club
CATEGORIES:Event,Featured Homepage,Trap Event
ATTACH;FMTTYPE=image/jpeg:https://millvalesportsmens.com/wp-content/uploads/2018/06/skeet-shooting.jpg
END:VEVENT
BEGIN:VEVENT
DTSTART;TZID=America/New_York:20250611T170000
DTEND;TZID=America/New_York:20250611T210000
DTSTAMP:20260422T014632
CREATED:20260301T215824Z
LAST-MODIFIED:20260301T215824Z
UID:10004777-1749661200-1749675600@millvalesportsmens.com
SUMMARY:Summer Trap League
DESCRIPTION:Sign ups start at 5pm with shooting starting at 530 pm.\nWe shoot 25- 16yard targets and 25-22 yard targets.\nLeague is 25 weeks long with a banquet at the end of league.\nPrice is $17.00 per 50 targets which pays for targets and league banquet prizes.\nTo be eligible for banquet at end of league you must have 22 shoots for league prizes\, and 19 shoots to be eligible to come to banquet.\n\nQuestions\, contact Dennis Rask at raskf3@gmail.com \nHope to see you on the trap field.
URL:https://millvalesportsmens.com/event/summer-trap-league-2/2025-06-11/
LOCATION:Millvale Sportmen’s Club
CATEGORIES:Event,Featured Homepage,Trap Event
ATTACH;FMTTYPE=image/jpeg:https://millvalesportsmens.com/wp-content/uploads/2018/06/skeet-shooting.jpg
END:VEVENT
BEGIN:VEVENT
DTSTART;TZID=America/New_York:20250614T080000
DTEND;TZID=America/New_York:20250614T140000
DTSTAMP:20260422T014632
CREATED:20250407T145401Z
LAST-MODIFIED:20250407T145822Z
UID:10004479-1749888000-1749909600@millvalesportsmens.com
SUMMARY:Kids Fishing Derby
DESCRIPTION:Saturday\, June 14\, 2025\nSnacks\, Drinks and Hot Dogs will be provided \nFor kids 15 years and younger \nPrizes for 3 different age groups \nRegistration/Sign-ups begin 8am to 9am \nQuestions Contact Ken Myers \nspecialprojects@millvalesportsmens.com
URL:https://millvalesportsmens.com/event/kids-fishing-derby/
LOCATION:Millvale Sportmen’s Club
CATEGORIES:Event,Featured Homepage
ATTACH;FMTTYPE=image/jpeg:https://millvalesportsmens.com/wp-content/uploads/2025/04/IMG_1447.jpg
END:VEVENT
BEGIN:VEVENT
DTSTART;TZID=America/New_York:20250618T170000
DTEND;TZID=America/New_York:20250618T210000
DTSTAMP:20260422T014632
CREATED:20260301T215824Z
LAST-MODIFIED:20260301T215824Z
UID:10004778-1750266000-1750280400@millvalesportsmens.com
SUMMARY:Summer Trap League
DESCRIPTION:Sign ups start at 5pm with shooting starting at 530 pm.\nWe shoot 25- 16yard targets and 25-22 yard targets.\nLeague is 25 weeks long with a banquet at the end of league.\nPrice is $17.00 per 50 targets which pays for targets and league banquet prizes.\nTo be eligible for banquet at end of league you must have 22 shoots for league prizes\, and 19 shoots to be eligible to come to banquet.\n\nQuestions\, contact Dennis Rask at raskf3@gmail.com \nHope to see you on the trap field.
URL:https://millvalesportsmens.com/event/summer-trap-league-2/2025-06-18/
LOCATION:Millvale Sportmen’s Club
CATEGORIES:Event,Featured Homepage,Trap Event
ATTACH;FMTTYPE=image/jpeg:https://millvalesportsmens.com/wp-content/uploads/2018/06/skeet-shooting.jpg
END:VEVENT
BEGIN:VEVENT
DTSTART;TZID=America/New_York:20250625T170000
DTEND;TZID=America/New_York:20250625T210000
DTSTAMP:20260422T014632
CREATED:20260301T215824Z
LAST-MODIFIED:20260301T215824Z
UID:10004779-1750870800-1750885200@millvalesportsmens.com
SUMMARY:Summer Trap League
DESCRIPTION:Sign ups start at 5pm with shooting starting at 530 pm.\nWe shoot 25- 16yard targets and 25-22 yard targets.\nLeague is 25 weeks long with a banquet at the end of league.\nPrice is $17.00 per 50 targets which pays for targets and league banquet prizes.\nTo be eligible for banquet at end of league you must have 22 shoots for league prizes\, and 19 shoots to be eligible to come to banquet.\n\nQuestions\, contact Dennis Rask at raskf3@gmail.com \nHope to see you on the trap field.
URL:https://millvalesportsmens.com/event/summer-trap-league-2/2025-06-25/
LOCATION:Millvale Sportmen’s Club
CATEGORIES:Event,Featured Homepage,Trap Event
ATTACH;FMTTYPE=image/jpeg:https://millvalesportsmens.com/wp-content/uploads/2018/06/skeet-shooting.jpg
END:VEVENT
END:VCALENDAR