BEGIN:VCALENDAR
VERSION:2.0
PRODID:-//Millvale Sportmens Club - ECPv6.15.16//NONSGML v1.0//EN
CALSCALE:GREGORIAN
METHOD:PUBLISH
X-WR-CALNAME:Millvale Sportmens Club
X-ORIGINAL-URL:https://millvalesportsmens.com
X-WR-CALDESC:Events for Millvale Sportmens Club
REFRESH-INTERVAL;VALUE=DURATION:PT1H
X-Robots-Tag:noindex
X-PUBLISHED-TTL:PT1H
BEGIN:VTIMEZONE
TZID:America/New_York
BEGIN:DAYLIGHT
TZOFFSETFROM:-0500
TZOFFSETTO:-0400
TZNAME:EDT
DTSTART:20240310T070000
END:DAYLIGHT
BEGIN:STANDARD
TZOFFSETFROM:-0400
TZOFFSETTO:-0500
TZNAME:EST
DTSTART:20241103T060000
END:STANDARD
BEGIN:DAYLIGHT
TZOFFSETFROM:-0500
TZOFFSETTO:-0400
TZNAME:EDT
DTSTART:20250309T070000
END:DAYLIGHT
BEGIN:STANDARD
TZOFFSETFROM:-0400
TZOFFSETTO:-0500
TZNAME:EST
DTSTART:20251102T060000
END:STANDARD
BEGIN:DAYLIGHT
TZOFFSETFROM:-0500
TZOFFSETTO:-0400
TZNAME:EDT
DTSTART:20260308T070000
END:DAYLIGHT
BEGIN:STANDARD
TZOFFSETFROM:-0400
TZOFFSETTO:-0500
TZNAME:EST
DTSTART:20261101T060000
END:STANDARD
END:VTIMEZONE
BEGIN:VEVENT
DTSTART;TZID=America/New_York:20250702T170000
DTEND;TZID=America/New_York:20250702T210000
DTSTAMP:20260422T080359
CREATED:20260301T215824Z
LAST-MODIFIED:20260301T215824Z
UID:10004780-1751475600-1751490000@millvalesportsmens.com
SUMMARY:Summer Trap League
DESCRIPTION:Sign ups start at 5pm with shooting starting at 530 pm.\nWe shoot 25- 16yard targets and 25-22 yard targets.\nLeague is 25 weeks long with a banquet at the end of league.\nPrice is $17.00 per 50 targets which pays for targets and league banquet prizes.\nTo be eligible for banquet at end of league you must have 22 shoots for league prizes\, and 19 shoots to be eligible to come to banquet.\n\nQuestions\, contact Dennis Rask at raskf3@gmail.com \nHope to see you on the trap field.
URL:https://millvalesportsmens.com/event/summer-trap-league-2/2025-07-02/
LOCATION:Millvale Sportmen’s Club
CATEGORIES:Event,Featured Homepage,Trap Event
ATTACH;FMTTYPE=image/jpeg:https://millvalesportsmens.com/wp-content/uploads/2018/06/skeet-shooting.jpg
END:VEVENT
BEGIN:VEVENT
DTSTART;TZID=America/New_York:20250709T170000
DTEND;TZID=America/New_York:20250709T210000
DTSTAMP:20260422T080359
CREATED:20260301T215824Z
LAST-MODIFIED:20260301T215824Z
UID:10004781-1752080400-1752094800@millvalesportsmens.com
SUMMARY:Summer Trap League
DESCRIPTION:Sign ups start at 5pm with shooting starting at 530 pm.\nWe shoot 25- 16yard targets and 25-22 yard targets.\nLeague is 25 weeks long with a banquet at the end of league.\nPrice is $17.00 per 50 targets which pays for targets and league banquet prizes.\nTo be eligible for banquet at end of league you must have 22 shoots for league prizes\, and 19 shoots to be eligible to come to banquet.\n\nQuestions\, contact Dennis Rask at raskf3@gmail.com \nHope to see you on the trap field.
URL:https://millvalesportsmens.com/event/summer-trap-league-2/2025-07-09/
LOCATION:Millvale Sportmen’s Club
CATEGORIES:Event,Featured Homepage,Trap Event
ATTACH;FMTTYPE=image/jpeg:https://millvalesportsmens.com/wp-content/uploads/2018/06/skeet-shooting.jpg
END:VEVENT
BEGIN:VEVENT
DTSTART;TZID=America/New_York:20250716T170000
DTEND;TZID=America/New_York:20250716T210000
DTSTAMP:20260422T080359
CREATED:20260301T215824Z
LAST-MODIFIED:20260301T215824Z
UID:10004782-1752685200-1752699600@millvalesportsmens.com
SUMMARY:Summer Trap League
DESCRIPTION:Sign ups start at 5pm with shooting starting at 530 pm.\nWe shoot 25- 16yard targets and 25-22 yard targets.\nLeague is 25 weeks long with a banquet at the end of league.\nPrice is $17.00 per 50 targets which pays for targets and league banquet prizes.\nTo be eligible for banquet at end of league you must have 22 shoots for league prizes\, and 19 shoots to be eligible to come to banquet.\n\nQuestions\, contact Dennis Rask at raskf3@gmail.com \nHope to see you on the trap field.
URL:https://millvalesportsmens.com/event/summer-trap-league-2/2025-07-16/
LOCATION:Millvale Sportmen’s Club
CATEGORIES:Event,Featured Homepage,Trap Event
ATTACH;FMTTYPE=image/jpeg:https://millvalesportsmens.com/wp-content/uploads/2018/06/skeet-shooting.jpg
END:VEVENT
BEGIN:VEVENT
DTSTART;TZID=America/New_York:20250723T170000
DTEND;TZID=America/New_York:20250723T210000
DTSTAMP:20260422T080359
CREATED:20260301T215824Z
LAST-MODIFIED:20260301T215824Z
UID:10004783-1753290000-1753304400@millvalesportsmens.com
SUMMARY:Summer Trap League
DESCRIPTION:Sign ups start at 5pm with shooting starting at 530 pm.\nWe shoot 25- 16yard targets and 25-22 yard targets.\nLeague is 25 weeks long with a banquet at the end of league.\nPrice is $17.00 per 50 targets which pays for targets and league banquet prizes.\nTo be eligible for banquet at end of league you must have 22 shoots for league prizes\, and 19 shoots to be eligible to come to banquet.\n\nQuestions\, contact Dennis Rask at raskf3@gmail.com \nHope to see you on the trap field.
URL:https://millvalesportsmens.com/event/summer-trap-league-2/2025-07-23/
LOCATION:Millvale Sportmen’s Club
CATEGORIES:Event,Featured Homepage,Trap Event
ATTACH;FMTTYPE=image/jpeg:https://millvalesportsmens.com/wp-content/uploads/2018/06/skeet-shooting.jpg
END:VEVENT
BEGIN:VEVENT
DTSTART;TZID=America/New_York:20250726T120000
DTEND;TZID=America/New_York:20250726T170000
DTSTAMP:20260422T080359
CREATED:20250312T141031Z
LAST-MODIFIED:20250723T121955Z
UID:10004210-1753531200-1753549200@millvalesportsmens.com
SUMMARY:MSCI Picnic
DESCRIPTION:Picnic—starts at 12 Noon. Runs thru 5 pm or whenever people leave. \nAll ranges closed during picnic
URL:https://millvalesportsmens.com/event/picnic/
LOCATION:Millvale Sportmen’s Club
CATEGORIES:Event,Featured Homepage
END:VEVENT
BEGIN:VEVENT
DTSTART;TZID=America/New_York:20250730T170000
DTEND;TZID=America/New_York:20250730T210000
DTSTAMP:20260422T080359
CREATED:20260301T215824Z
LAST-MODIFIED:20260301T215824Z
UID:10004784-1753894800-1753909200@millvalesportsmens.com
SUMMARY:Summer Trap League
DESCRIPTION:Sign ups start at 5pm with shooting starting at 530 pm.\nWe shoot 25- 16yard targets and 25-22 yard targets.\nLeague is 25 weeks long with a banquet at the end of league.\nPrice is $17.00 per 50 targets which pays for targets and league banquet prizes.\nTo be eligible for banquet at end of league you must have 22 shoots for league prizes\, and 19 shoots to be eligible to come to banquet.\n\nQuestions\, contact Dennis Rask at raskf3@gmail.com \nHope to see you on the trap field.
URL:https://millvalesportsmens.com/event/summer-trap-league-2/2025-07-30/
LOCATION:Millvale Sportmen’s Club
CATEGORIES:Event,Featured Homepage,Trap Event
ATTACH;FMTTYPE=image/jpeg:https://millvalesportsmens.com/wp-content/uploads/2018/06/skeet-shooting.jpg
END:VEVENT
BEGIN:VEVENT
DTSTART;TZID=America/New_York:20250731T200000
DTEND;TZID=America/New_York:20250731T210000
DTSTAMP:20260422T080359
CREATED:20250224T211801Z
LAST-MODIFIED:20250224T211801Z
UID:10003795-1753992000-1753995600@millvalesportsmens.com
SUMMARY:Monthly Membership Meeting
DESCRIPTION:Monthly Membership Meetings are the last Thursday of every Month from 8-9 p.m.
URL:https://millvalesportsmens.com/event/monthly-membership-meeting/2025-07-31/
LOCATION:Millvale Sportmen’s Club
CATEGORIES:Event
END:VEVENT
END:VCALENDAR